BEGIN:VCALENDAR
VERSION:2.0
PRODID:-//European Society for Gynaecological Endoscopy - ECPv6.15.20//NONSGML v1.0//EN
CALSCALE:GREGORIAN
METHOD:PUBLISH
X-WR-CALNAME:European Society for Gynaecological Endoscopy
X-ORIGINAL-URL:https://www.esge.org
X-WR-CALDESC:Events for European Society for Gynaecological Endoscopy
REFRESH-INTERVAL;VALUE=DURATION:PT1H
X-Robots-Tag:noindex
X-PUBLISHED-TTL:PT1H
BEGIN:VTIMEZONE
TZID:Europe/Brussels
BEGIN:DAYLIGHT
TZOFFSETFROM:+0100
TZOFFSETTO:+0200
TZNAME:CEST
DTSTART:20220327T010000
END:DAYLIGHT
BEGIN:STANDARD
TZOFFSETFROM:+0200
TZOFFSETTO:+0100
TZNAME:CET
DTSTART:20221030T010000
END:STANDARD
BEGIN:DAYLIGHT
TZOFFSETFROM:+0100
TZOFFSETTO:+0200
TZNAME:CEST
DTSTART:20230326T010000
END:DAYLIGHT
BEGIN:STANDARD
TZOFFSETFROM:+0200
TZOFFSETTO:+0100
TZNAME:CET
DTSTART:20231029T010000
END:STANDARD
BEGIN:DAYLIGHT
TZOFFSETFROM:+0100
TZOFFSETTO:+0200
TZNAME:CEST
DTSTART:20240331T010000
END:DAYLIGHT
BEGIN:STANDARD
TZOFFSETFROM:+0200
TZOFFSETTO:+0100
TZNAME:CET
DTSTART:20241027T010000
END:STANDARD
END:VTIMEZONE
BEGIN:VEVENT
DTSTART;VALUE=DATE:20230518
DTEND;VALUE=DATE:20230521
DTSTAMP:20260420T204110
CREATED:20230414T100504Z
LAST-MODIFIED:20230414T100504Z
UID:5730-1684368000-1684627199@www.esge.org
SUMMARY:28th EBCOG Congress | Krakow-Poland | 18th - 20th May 2023
DESCRIPTION:Dear friends and colleagues\, \nThe European family of obstetricians and gynaecologists (EBCOG) together with the Polish Society of Gynecologists and Obstetricians will join for an unforgettable meeting in Krakow\, Poland. \nEBCOG together with the special interest societies like\, ESGE and the subspeciality societies like ESHRE have joined the Polish Society who has an enormous and well-respected tradition in our field. The ideal moment and place to come together and exchange our experience\, to present our novel scientific findings and enjoy the famous hands-on sessions of the EBCOG congresses. \n INFORMATION \nREGISTRATION \nABSTRACT SUBMISSON 
URL:https://www.esge.org/event-esge/28th-ebcog-congress-krakow-poland-18th-20th-may-2023/
CATEGORIES:Congresses
ATTACH;FMTTYPE=image/jpeg:https://www.esge.org/wp-content/uploads/2023/04/EBCOG-Congress.jpg
ORGANIZER;CN="EBCOG":MAILTO:centraloffice@ebcog.eu
END:VEVENT
END:VCALENDAR