BEGIN:VCALENDAR
VERSION:2.0
PRODID:-//European Society for Gynaecological Endoscopy - ECPv6.15.20//NONSGML v1.0//EN
CALSCALE:GREGORIAN
METHOD:PUBLISH
X-WR-CALNAME:European Society for Gynaecological Endoscopy
X-ORIGINAL-URL:https://www.esge.org
X-WR-CALDESC:Events for European Society for Gynaecological Endoscopy
REFRESH-INTERVAL;VALUE=DURATION:PT1H
X-Robots-Tag:noindex
X-PUBLISHED-TTL:PT1H
BEGIN:VTIMEZONE
TZID:Europe/Brussels
BEGIN:DAYLIGHT
TZOFFSETFROM:+0100
TZOFFSETTO:+0200
TZNAME:CEST
DTSTART:20200329T010000
END:DAYLIGHT
BEGIN:STANDARD
TZOFFSETFROM:+0200
TZOFFSETTO:+0100
TZNAME:CET
DTSTART:20201025T010000
END:STANDARD
BEGIN:DAYLIGHT
TZOFFSETFROM:+0100
TZOFFSETTO:+0200
TZNAME:CEST
DTSTART:20210328T010000
END:DAYLIGHT
BEGIN:STANDARD
TZOFFSETFROM:+0200
TZOFFSETTO:+0100
TZNAME:CET
DTSTART:20211031T010000
END:STANDARD
BEGIN:DAYLIGHT
TZOFFSETFROM:+0100
TZOFFSETTO:+0200
TZNAME:CEST
DTSTART:20220327T010000
END:DAYLIGHT
BEGIN:STANDARD
TZOFFSETFROM:+0200
TZOFFSETTO:+0100
TZNAME:CET
DTSTART:20221030T010000
END:STANDARD
END:VTIMEZONE
BEGIN:VEVENT
DTSTART;TZID=Europe/Brussels:20210302T080000
DTEND;TZID=Europe/Brussels:20210302T170000
DTSTAMP:20260420T012500
CREATED:20210121T094413Z
LAST-MODIFIED:20210121T094413Z
UID:764-1614672000-1614704400@www.esge.org
SUMMARY:BSGE Live Virtual Cadaveric Workshop
DESCRIPTION:Venue \nVirtual. Newcastle Surgical Training Centre. \nObjective / Programme \nIncrease confidence in pelvic anatomy and pelvic sidewall structures. Step by step laparoscopic hysterectomy. Laparoscopic suturing tips and tricks and management of complications during laparoscopy.
URL:https://www.esge.org/event-esge/bsge-live-virtual-cadaveric-workshop/
LOCATION:British Society for Gynaecological Endoscopy (BSGE)
CATEGORIES:Other Events
END:VEVENT
END:VCALENDAR