BEGIN:VCALENDAR
VERSION:2.0
PRODID:-//European Society for Gynaecological Endoscopy - ECPv6.15.20//NONSGML v1.0//EN
CALSCALE:GREGORIAN
METHOD:PUBLISH
X-WR-CALNAME:European Society for Gynaecological Endoscopy
X-ORIGINAL-URL:https://www.esge.org
X-WR-CALDESC:Events for European Society for Gynaecological Endoscopy
REFRESH-INTERVAL;VALUE=DURATION:PT1H
X-Robots-Tag:noindex
X-PUBLISHED-TTL:PT1H
BEGIN:VTIMEZONE
TZID:Europe/Brussels
BEGIN:DAYLIGHT
TZOFFSETFROM:+0100
TZOFFSETTO:+0200
TZNAME:CEST
DTSTART:20240331T010000
END:DAYLIGHT
BEGIN:STANDARD
TZOFFSETFROM:+0200
TZOFFSETTO:+0100
TZNAME:CET
DTSTART:20241027T010000
END:STANDARD
BEGIN:DAYLIGHT
TZOFFSETFROM:+0100
TZOFFSETTO:+0200
TZNAME:CEST
DTSTART:20250330T010000
END:DAYLIGHT
BEGIN:STANDARD
TZOFFSETFROM:+0200
TZOFFSETTO:+0100
TZNAME:CET
DTSTART:20251026T010000
END:STANDARD
BEGIN:DAYLIGHT
TZOFFSETFROM:+0100
TZOFFSETTO:+0200
TZNAME:CEST
DTSTART:20260329T010000
END:DAYLIGHT
BEGIN:STANDARD
TZOFFSETFROM:+0200
TZOFFSETTO:+0100
TZNAME:CET
DTSTART:20261025T010000
END:STANDARD
END:VTIMEZONE
BEGIN:VEVENT
DTSTART;TZID=Europe/Brussels:20250327T190000
DTEND;TZID=Europe/Brussels:20250327T203000
DTSTAMP:20260419T184622
CREATED:20250320T145958Z
LAST-MODIFIED:20250320T145958Z
UID:9027-1743102000-1743107400@www.esge.org
SUMMARY:DEBATE WEBINAR: Dysmorphic Uterus Dilemma: Should it be Corrected?
DESCRIPTION:MODERATORS: \nRecai Pabuccu       Ertan Saridogan \nSPEAKERS: \nLuis Alonso Pacheco \nLecture: Every Dysmorphic Uterus Should be Corrected! \n  \nArtur Ludwin \nLecture: No Need to Correct Every Dysmorphic Uterus! \nThe Debate will be broadcast Live! \nREGISTRATION
URL:https://www.esge.org/event-esge/debate-webinar-dysmorphic-uterus-dilemma-should-it-be-corrected/
ATTACH;FMTTYPE=image/jpeg:https://www.esge.org/wp-content/uploads/2025/03/27-Mart-Webinar_ENG-e1742482995188.jpg
END:VEVENT
END:VCALENDAR