BEGIN:VCALENDAR
VERSION:2.0
PRODID:-//European Society for Gynaecological Endoscopy - ECPv6.15.20//NONSGML v1.0//EN
CALSCALE:GREGORIAN
METHOD:PUBLISH
X-WR-CALNAME:European Society for Gynaecological Endoscopy
X-ORIGINAL-URL:https://www.esge.org
X-WR-CALDESC:Events for European Society for Gynaecological Endoscopy
REFRESH-INTERVAL;VALUE=DURATION:PT1H
X-Robots-Tag:noindex
X-PUBLISHED-TTL:PT1H
BEGIN:VTIMEZONE
TZID:Europe/Brussels
BEGIN:DAYLIGHT
TZOFFSETFROM:+0100
TZOFFSETTO:+0200
TZNAME:CEST
DTSTART:20230326T010000
END:DAYLIGHT
BEGIN:STANDARD
TZOFFSETFROM:+0200
TZOFFSETTO:+0100
TZNAME:CET
DTSTART:20231029T010000
END:STANDARD
BEGIN:DAYLIGHT
TZOFFSETFROM:+0100
TZOFFSETTO:+0200
TZNAME:CEST
DTSTART:20240331T010000
END:DAYLIGHT
BEGIN:STANDARD
TZOFFSETFROM:+0200
TZOFFSETTO:+0100
TZNAME:CET
DTSTART:20241027T010000
END:STANDARD
BEGIN:DAYLIGHT
TZOFFSETFROM:+0100
TZOFFSETTO:+0200
TZNAME:CEST
DTSTART:20250330T010000
END:DAYLIGHT
BEGIN:STANDARD
TZOFFSETFROM:+0200
TZOFFSETTO:+0100
TZNAME:CET
DTSTART:20251026T010000
END:STANDARD
END:VTIMEZONE
BEGIN:VEVENT
DTSTART;TZID=Europe/Brussels:20241027T000000
DTEND;TZID=Europe/Brussels:20241030T235959
DTSTAMP:20260420T190004
CREATED:20240816T091333Z
LAST-MODIFIED:20240816T091333Z
UID:8018-1729987200-1730332799@www.esge.org
SUMMARY:ESGE 33rd Annual Congress | Marseille - France 2024
DESCRIPTION:Dear friends and colleague of the ESGE\, \nWe are pleased to announce that the ESGE 33rd Annual Congress will be held in Marseille\, France\, on 27-30 October. \nFor more information please visit the ESGE Congress website  or contact us via info@esge.org. \n  \nGESEA Certifications in Level 1\, Level 2 and Robotics will be held during the Congress. \nFor more information\, please\, follow the links below to the Congress website: \nGESEA Level 1 Certification \nGESEA Level 2 MIGS Certification \nGESEA Robotics Certification \n 
URL:https://www.esge.org/event-esge/esge-33rd-annual-congress-marseille-france-2024/
CATEGORIES:Congresses,GESEA Certification
ATTACH;FMTTYPE=image/jpeg:https://www.esge.org/wp-content/uploads/2024/08/ESGE2024_Slider-Homepage_1100x458px.jpg
ORGANIZER;CN="ESGE":MAILTO:centraloffice@esge.org
END:VEVENT
END:VCALENDAR