BEGIN:VCALENDAR
VERSION:2.0
PRODID:-//European Society for Gynaecological Endoscopy - ECPv6.15.20//NONSGML v1.0//EN
CALSCALE:GREGORIAN
METHOD:PUBLISH
X-WR-CALNAME:European Society for Gynaecological Endoscopy
X-ORIGINAL-URL:https://www.esge.org
X-WR-CALDESC:Events for European Society for Gynaecological Endoscopy
REFRESH-INTERVAL;VALUE=DURATION:PT1H
X-Robots-Tag:noindex
X-PUBLISHED-TTL:PT1H
BEGIN:VTIMEZONE
TZID:Europe/Brussels
BEGIN:DAYLIGHT
TZOFFSETFROM:+0100
TZOFFSETTO:+0200
TZNAME:CEST
DTSTART:20240331T010000
END:DAYLIGHT
BEGIN:STANDARD
TZOFFSETFROM:+0200
TZOFFSETTO:+0100
TZNAME:CET
DTSTART:20241027T010000
END:STANDARD
BEGIN:DAYLIGHT
TZOFFSETFROM:+0100
TZOFFSETTO:+0200
TZNAME:CEST
DTSTART:20250330T010000
END:DAYLIGHT
BEGIN:STANDARD
TZOFFSETFROM:+0200
TZOFFSETTO:+0100
TZNAME:CET
DTSTART:20251026T010000
END:STANDARD
BEGIN:DAYLIGHT
TZOFFSETFROM:+0100
TZOFFSETTO:+0200
TZNAME:CEST
DTSTART:20260329T010000
END:DAYLIGHT
BEGIN:STANDARD
TZOFFSETFROM:+0200
TZOFFSETTO:+0100
TZNAME:CET
DTSTART:20261025T010000
END:STANDARD
END:VTIMEZONE
BEGIN:VEVENT
DTSTART;TZID=Europe/Brussels:20251218T190000
DTEND;TZID=Europe/Brussels:20251218T203000
DTSTAMP:20260419T233654
CREATED:20251210T101737Z
LAST-MODIFIED:20251210T102904Z
UID:14700-1766084400-1766089800@www.esge.org
SUMMARY:ESGE Webinar: Management of SUI by slings: end of an era?
DESCRIPTION:Dear colleagues and friends of ESGE\, \nWe are pleased to inform you that the upcoming ESGE Webinar\, organised by the ESGE Special Interest Group (SIG) Urogynaecology\, titled “Management of SUI by Slings: End of an Era?”\, will take place on December 18th starting at 7 PM CET! \nWe look forward to your participation in this important and thought-provoking discussion. \n\nREGISTER HERE
URL:https://www.esge.org/event-esge/esge-webinar-management-of-sui-by-slings-end-of-an-era/
ATTACH;FMTTYPE=image/png:https://www.esge.org/wp-content/uploads/2025/12/ESGE-Webinar-DECEMBER-18th-2025.png
ORGANIZER;CN="ESGE":MAILTO:centraloffice@esge.org
END:VEVENT
END:VCALENDAR