BEGIN:VCALENDAR
VERSION:2.0
PRODID:-//European Society for Gynaecological Endoscopy - ECPv6.15.20//NONSGML v1.0//EN
CALSCALE:GREGORIAN
METHOD:PUBLISH
X-WR-CALNAME:European Society for Gynaecological Endoscopy
X-ORIGINAL-URL:https://www.esge.org
X-WR-CALDESC:Events for European Society for Gynaecological Endoscopy
REFRESH-INTERVAL;VALUE=DURATION:PT1H
X-Robots-Tag:noindex
X-PUBLISHED-TTL:PT1H
BEGIN:VTIMEZONE
TZID:Europe/Brussels
BEGIN:DAYLIGHT
TZOFFSETFROM:+0100
TZOFFSETTO:+0200
TZNAME:CEST
DTSTART:20220327T010000
END:DAYLIGHT
BEGIN:STANDARD
TZOFFSETFROM:+0200
TZOFFSETTO:+0100
TZNAME:CET
DTSTART:20221030T010000
END:STANDARD
BEGIN:DAYLIGHT
TZOFFSETFROM:+0100
TZOFFSETTO:+0200
TZNAME:CEST
DTSTART:20230326T010000
END:DAYLIGHT
BEGIN:STANDARD
TZOFFSETFROM:+0200
TZOFFSETTO:+0100
TZNAME:CET
DTSTART:20231029T010000
END:STANDARD
BEGIN:DAYLIGHT
TZOFFSETFROM:+0100
TZOFFSETTO:+0200
TZNAME:CEST
DTSTART:20240331T010000
END:DAYLIGHT
BEGIN:STANDARD
TZOFFSETFROM:+0200
TZOFFSETTO:+0100
TZNAME:CET
DTSTART:20241027T010000
END:STANDARD
END:VTIMEZONE
BEGIN:VEVENT
DTSTART;TZID=Europe/Brussels:20230209T190000
DTEND;TZID=Europe/Brussels:20230209T203000
DTSTAMP:20260421T161415
CREATED:20230201T120301Z
LAST-MODIFIED:20230201T120301Z
UID:5436-1675969200-1675974600@www.esge.org
SUMMARY:ESGE WEBINAR | Step-by-Step approach to becoming a MIGS Expert following GESEA  Programme pathway | 9th FEB 2023
DESCRIPTION:Dear colleagues and friends of ESGE\, \nThe European Society for Gynaecological Endoscopy (ESGE) and The Special Interest Group (SIG) Education and Training \norganise a webinar entitled: \nStep-by-Step approach to becoming a MIGS Expert following GESEA Programme pathway\nThe presentation will be given by leading experts in the field. \nJoin us for this webinar! \n  \nPlease click below to register free of charge and to view the webinar programme: \nREGISTRATION     PROGRAMME
URL:https://www.esge.org/event-esge/esge-webinar-step-by-step-approach-to-becoming-a-migs-expert-following-gesea-programme-pathway-9th-feb-2023/
LOCATION:ESGE
CATEGORIES:Other Events
ATTACH;FMTTYPE=image/png:https://www.esge.org/wp-content/uploads/2023/02/ESGE-WEB-9-FEB_-TITLE_SLIDE_IC-scaled.png
ORGANIZER;CN="ESGE":MAILTO:centraloffice@esge.org
END:VEVENT
END:VCALENDAR