BEGIN:VCALENDAR
VERSION:2.0
PRODID:-//European Society for Gynaecological Endoscopy - ECPv6.15.20//NONSGML v1.0//EN
CALSCALE:GREGORIAN
METHOD:PUBLISH
X-WR-CALNAME:European Society for Gynaecological Endoscopy
X-ORIGINAL-URL:https://www.esge.org
X-WR-CALDESC:Events for European Society for Gynaecological Endoscopy
REFRESH-INTERVAL;VALUE=DURATION:PT1H
X-Robots-Tag:noindex
X-PUBLISHED-TTL:PT1H
BEGIN:VTIMEZONE
TZID:Europe/Brussels
BEGIN:DAYLIGHT
TZOFFSETFROM:+0100
TZOFFSETTO:+0200
TZNAME:CEST
DTSTART:20210328T010000
END:DAYLIGHT
BEGIN:STANDARD
TZOFFSETFROM:+0200
TZOFFSETTO:+0100
TZNAME:CET
DTSTART:20211031T010000
END:STANDARD
BEGIN:DAYLIGHT
TZOFFSETFROM:+0100
TZOFFSETTO:+0200
TZNAME:CEST
DTSTART:20220327T010000
END:DAYLIGHT
BEGIN:STANDARD
TZOFFSETFROM:+0200
TZOFFSETTO:+0100
TZNAME:CET
DTSTART:20221030T010000
END:STANDARD
BEGIN:DAYLIGHT
TZOFFSETFROM:+0100
TZOFFSETTO:+0200
TZNAME:CEST
DTSTART:20230326T010000
END:DAYLIGHT
BEGIN:STANDARD
TZOFFSETFROM:+0200
TZOFFSETTO:+0100
TZNAME:CET
DTSTART:20231029T010000
END:STANDARD
END:VTIMEZONE
BEGIN:VEVENT
DTSTART;TZID=Europe/Brussels:20220114T080000
DTEND;TZID=Europe/Brussels:20220114T170000
DTSTAMP:20260424T150358
CREATED:20211122T140145Z
LAST-MODIFIED:20211122T140145Z
UID:3039-1642147200-1642179600@www.esge.org
SUMMARY:Gemelli Surgical Workshop on Vaginal Radical Surgery in the post-LACC era
DESCRIPTION:Gemelli Surgical Workshop on Vaginal Radical Surgery in the post-LACC era \nCourse directors: \nProf. Denis Querleu \nProf. Giovanni Scambia \nMore information: here 
URL:https://www.esge.org/event-esge/gemelli-surgical-workshop-on-vaginal-radical-surgery-in-the-post-lacc-era/
CATEGORIES:ESGE Workshops
ATTACH;FMTTYPE=image/jpeg:https://www.esge.org/wp-content/uploads/2021/11/Capture.jpg
ORGANIZER;CN="Molipharma srl":MAILTO:info@molipharma.com
END:VEVENT
END:VCALENDAR