BEGIN:VCALENDAR
VERSION:2.0
PRODID:-//European Society for Gynaecological Endoscopy - ECPv6.15.20//NONSGML v1.0//EN
CALSCALE:GREGORIAN
METHOD:PUBLISH
X-WR-CALNAME:European Society for Gynaecological Endoscopy
X-ORIGINAL-URL:https://www.esge.org
X-WR-CALDESC:Events for European Society for Gynaecological Endoscopy
REFRESH-INTERVAL;VALUE=DURATION:PT1H
X-Robots-Tag:noindex
X-PUBLISHED-TTL:PT1H
BEGIN:VTIMEZONE
TZID:Europe/Brussels
BEGIN:DAYLIGHT
TZOFFSETFROM:+0100
TZOFFSETTO:+0200
TZNAME:CEST
DTSTART:20250330T010000
END:DAYLIGHT
BEGIN:STANDARD
TZOFFSETFROM:+0200
TZOFFSETTO:+0100
TZNAME:CET
DTSTART:20251026T010000
END:STANDARD
BEGIN:DAYLIGHT
TZOFFSETFROM:+0100
TZOFFSETTO:+0200
TZNAME:CEST
DTSTART:20260329T010000
END:DAYLIGHT
BEGIN:STANDARD
TZOFFSETFROM:+0200
TZOFFSETTO:+0100
TZNAME:CET
DTSTART:20261025T010000
END:STANDARD
BEGIN:DAYLIGHT
TZOFFSETFROM:+0100
TZOFFSETTO:+0200
TZNAME:CEST
DTSTART:20270328T010000
END:DAYLIGHT
BEGIN:STANDARD
TZOFFSETFROM:+0200
TZOFFSETTO:+0100
TZNAME:CET
DTSTART:20271031T010000
END:STANDARD
END:VTIMEZONE
BEGIN:VEVENT
DTSTART;VALUE=DATE:20261021
DTEND;VALUE=DATE:20261023
DTSTAMP:20260421T124801
CREATED:20260319T153056Z
LAST-MODIFIED:20260319T153056Z
UID:15853-1792540800-1792713599@www.esge.org
SUMMARY:HOW TO HYSTT | Hands-on training and Expert-led lessons | Rome - Italy
DESCRIPTION:To register or if  you have any further questions\, regarding this course please contact \ninfo@eludiaevents.it \n06 92918727 – www.eludiaevents.it \n  \nNew hysteroscopic technologies have greatly improved the diagnosis and treatment of intrauterine conditions\, making it essential for gynaecologists to stay updated. \nThe “HOW TO HYST” course offers hands-on training and expert-led lessons to teach the latest techniques\, following European standards for high-quality learning.
URL:https://www.esge.org/event-esge/gesea-certification-session-level-1-rome-italy-8-9-2/
LOCATION:Department of Gynaecological Oncology\, Catholic University of the Sacred Heart (Fondazione Policlinico Universitario A. Gemelli IRCCS)\, Largo Agostino Gemelli 8\, Rome\, 00168\, Italy
CATEGORIES:GESEA Masterclasses
ATTACH;FMTTYPE=image/png:https://www.esge.org/wp-content/uploads/2024/11/GEMELLI.png
ORGANIZER;CN="Eludia Events S.r.l. Societ%C3%A0 Benefit":MAILTO:info@gesearoma.com
END:VEVENT
END:VCALENDAR