BEGIN:VCALENDAR
VERSION:2.0
PRODID:-//European Society for Gynaecological Endoscopy - ECPv6.15.20//NONSGML v1.0//EN
CALSCALE:GREGORIAN
METHOD:PUBLISH
X-WR-CALNAME:European Society for Gynaecological Endoscopy
X-ORIGINAL-URL:https://www.esge.org
X-WR-CALDESC:Events for European Society for Gynaecological Endoscopy
REFRESH-INTERVAL;VALUE=DURATION:PT1H
X-Robots-Tag:noindex
X-PUBLISHED-TTL:PT1H
BEGIN:VTIMEZONE
TZID:Europe/Brussels
BEGIN:DAYLIGHT
TZOFFSETFROM:+0100
TZOFFSETTO:+0200
TZNAME:CEST
DTSTART:20220327T010000
END:DAYLIGHT
BEGIN:STANDARD
TZOFFSETFROM:+0200
TZOFFSETTO:+0100
TZNAME:CET
DTSTART:20221030T010000
END:STANDARD
BEGIN:DAYLIGHT
TZOFFSETFROM:+0100
TZOFFSETTO:+0200
TZNAME:CEST
DTSTART:20230326T010000
END:DAYLIGHT
BEGIN:STANDARD
TZOFFSETFROM:+0200
TZOFFSETTO:+0100
TZNAME:CET
DTSTART:20231029T010000
END:STANDARD
BEGIN:DAYLIGHT
TZOFFSETFROM:+0100
TZOFFSETTO:+0200
TZNAME:CEST
DTSTART:20240331T010000
END:DAYLIGHT
BEGIN:STANDARD
TZOFFSETFROM:+0200
TZOFFSETTO:+0100
TZNAME:CET
DTSTART:20241027T010000
END:STANDARD
END:VTIMEZONE
BEGIN:VEVENT
DTSTART;VALUE=DATE:20230323
DTEND;VALUE=DATE:20230324
DTSTAMP:20260420T043247
CREATED:20221027T130422Z
LAST-MODIFIED:20221027T130422Z
UID:4114-1679529600-1679615999@www.esge.org
SUMMARY:GESEA Level 2 Certification Session  | Rome — Italy
DESCRIPTION:GESEA Certification Session Level 2 | Rome — Italy \nRegistration\n*if you have any further questions\, regarding the GESEA L2 Certification Session \nplease contact francesca.ortenzi@molipharma.com \nPlease note: \nTraining sessions are always available for our residents (gynaecology and general surgery) \nand in the morning before the certification if required by participants. \nIMPORTANT: \nALL PARTICIPANTS must obtain a GESEA e-Learning Certificate via academy.esge.org \nin the respective level prior to the GESEA Session that they are participating in.
URL:https://www.esge.org/event-esge/gesea-certification-session-level-2-rome-italy/
CATEGORIES:GESEA Certification
ATTACH;FMTTYPE=image/png:https://www.esge.org/wp-content/uploads/2021/02/logo_rome.png
ORGANIZER;CN="Eludia Events S.r.l. Societ%C3%A0 Benefit":MAILTO:info@gesearoma.com
END:VEVENT
END:VCALENDAR