BEGIN:VCALENDAR
VERSION:2.0
PRODID:-//European Society for Gynaecological Endoscopy - ECPv6.15.20//NONSGML v1.0//EN
CALSCALE:GREGORIAN
METHOD:PUBLISH
X-WR-CALNAME:European Society for Gynaecological Endoscopy
X-ORIGINAL-URL:https://www.esge.org
X-WR-CALDESC:Events for European Society for Gynaecological Endoscopy
REFRESH-INTERVAL;VALUE=DURATION:PT1H
X-Robots-Tag:noindex
X-PUBLISHED-TTL:PT1H
BEGIN:VTIMEZONE
TZID:Europe/Brussels
BEGIN:DAYLIGHT
TZOFFSETFROM:+0100
TZOFFSETTO:+0200
TZNAME:CEST
DTSTART:20210328T010000
END:DAYLIGHT
BEGIN:STANDARD
TZOFFSETFROM:+0200
TZOFFSETTO:+0100
TZNAME:CET
DTSTART:20211031T010000
END:STANDARD
BEGIN:DAYLIGHT
TZOFFSETFROM:+0100
TZOFFSETTO:+0200
TZNAME:CEST
DTSTART:20220327T010000
END:DAYLIGHT
BEGIN:STANDARD
TZOFFSETFROM:+0200
TZOFFSETTO:+0100
TZNAME:CET
DTSTART:20221030T010000
END:STANDARD
BEGIN:DAYLIGHT
TZOFFSETFROM:+0100
TZOFFSETTO:+0200
TZNAME:CEST
DTSTART:20230326T010000
END:DAYLIGHT
BEGIN:STANDARD
TZOFFSETFROM:+0200
TZOFFSETTO:+0100
TZNAME:CET
DTSTART:20231029T010000
END:STANDARD
END:VTIMEZONE
BEGIN:VEVENT
DTSTART;TZID=Europe/Brussels:20221220T080000
DTEND;TZID=Europe/Brussels:20221220T170000
DTSTAMP:20260421T142626
CREATED:20221220T160819Z
LAST-MODIFIED:20221220T160819Z
UID:4431-1671523200-1671555600@www.esge.org
SUMMARY:GESEA Course | Laparoscopic Suturing: STITCH UP | Rome - Italy
DESCRIPTION:GESEA Laparoscopic Suturing Course: \nSTITCH UP  \nTo register or if  you have any further questions\, regarding the GESEA Course \nplease contact francesca.ortenzi@molipharma.com \nREGISTRATION \nIMPORTANT: \nALL PARTICIPANTS must obtain a GESEA e-Learning Certificate via academy.esge.org \nin the respective level prior to the GESEA Session that they are participating in. \n 
URL:https://www.esge.org/event-esge/gesea-course-laparoscopic-suturing-stitch-up-rome-italy-2/
CATEGORIES:GESEA Course
ORGANIZER;CN="Eludia Events S.r.l. Societ%C3%A0 Benefit":MAILTO:info@gesearoma.com
END:VEVENT
END:VCALENDAR