BEGIN:VCALENDAR
VERSION:2.0
PRODID:-//European Society for Gynaecological Endoscopy - ECPv6.15.20//NONSGML v1.0//EN
CALSCALE:GREGORIAN
METHOD:PUBLISH
X-WR-CALNAME:European Society for Gynaecological Endoscopy
X-ORIGINAL-URL:https://www.esge.org
X-WR-CALDESC:Events for European Society for Gynaecological Endoscopy
REFRESH-INTERVAL;VALUE=DURATION:PT1H
X-Robots-Tag:noindex
X-PUBLISHED-TTL:PT1H
BEGIN:VTIMEZONE
TZID:Europe/Brussels
BEGIN:DAYLIGHT
TZOFFSETFROM:+0100
TZOFFSETTO:+0200
TZNAME:CEST
DTSTART:20240331T010000
END:DAYLIGHT
BEGIN:STANDARD
TZOFFSETFROM:+0200
TZOFFSETTO:+0100
TZNAME:CET
DTSTART:20241027T010000
END:STANDARD
BEGIN:DAYLIGHT
TZOFFSETFROM:+0100
TZOFFSETTO:+0200
TZNAME:CEST
DTSTART:20250330T010000
END:DAYLIGHT
BEGIN:STANDARD
TZOFFSETFROM:+0200
TZOFFSETTO:+0100
TZNAME:CET
DTSTART:20251026T010000
END:STANDARD
BEGIN:DAYLIGHT
TZOFFSETFROM:+0100
TZOFFSETTO:+0200
TZNAME:CEST
DTSTART:20260329T010000
END:DAYLIGHT
BEGIN:STANDARD
TZOFFSETFROM:+0200
TZOFFSETTO:+0100
TZNAME:CET
DTSTART:20261025T010000
END:STANDARD
END:VTIMEZONE
BEGIN:VEVENT
DTSTART;TZID=Europe/Brussels:20250908T000000
DTEND;TZID=Europe/Brussels:20250910T235959
DTSTAMP:20260419T214128
CREATED:20250314T104259Z
LAST-MODIFIED:20250314T104259Z
UID:9008-1757289600-1757548799@www.esge.org
SUMMARY:GESEA | State of the Art Endoscopic Practical Skills Course & Level 1 & 2 Certification session | BSGE
DESCRIPTION:To register for the GESEA Course and L1 & L2 Certification Sessions \nPlease click below for registration and programme details: \nREGISTRATION \nProgramme and Course details \n IMPORTANT: \nALL PARTICIPANTS must obtain a GESEA e-Learning Certificate via academy.esge.org \nin the respective level prior to the GESEA Session that they are participating in.
URL:https://www.esge.org/event-esge/gesea-course-level-1-2-course-and-certification-session-bsge-2/
LOCATION:British Society for Gynaecological Endoscopy (BSGE)
CATEGORIES:GESEA Certification,GESEA Course
ATTACH;FMTTYPE=image/png:https://www.esge.org/wp-content/uploads/2021/02/logo_bsge.png
END:VEVENT
END:VCALENDAR