BEGIN:VCALENDAR
VERSION:2.0
PRODID:-//European Society for Gynaecological Endoscopy - ECPv6.15.20//NONSGML v1.0//EN
CALSCALE:GREGORIAN
METHOD:PUBLISH
X-WR-CALNAME:European Society for Gynaecological Endoscopy
X-ORIGINAL-URL:https://www.esge.org
X-WR-CALDESC:Events for European Society for Gynaecological Endoscopy
REFRESH-INTERVAL;VALUE=DURATION:PT1H
X-Robots-Tag:noindex
X-PUBLISHED-TTL:PT1H
BEGIN:VTIMEZONE
TZID:Europe/Brussels
BEGIN:DAYLIGHT
TZOFFSETFROM:+0100
TZOFFSETTO:+0200
TZNAME:CEST
DTSTART:20220327T010000
END:DAYLIGHT
BEGIN:STANDARD
TZOFFSETFROM:+0200
TZOFFSETTO:+0100
TZNAME:CET
DTSTART:20221030T010000
END:STANDARD
BEGIN:DAYLIGHT
TZOFFSETFROM:+0100
TZOFFSETTO:+0200
TZNAME:CEST
DTSTART:20230326T010000
END:DAYLIGHT
BEGIN:STANDARD
TZOFFSETFROM:+0200
TZOFFSETTO:+0100
TZNAME:CET
DTSTART:20231029T010000
END:STANDARD
BEGIN:DAYLIGHT
TZOFFSETFROM:+0100
TZOFFSETTO:+0200
TZNAME:CEST
DTSTART:20240331T010000
END:DAYLIGHT
BEGIN:STANDARD
TZOFFSETFROM:+0200
TZOFFSETTO:+0100
TZNAME:CET
DTSTART:20241027T010000
END:STANDARD
END:VTIMEZONE
BEGIN:VEVENT
DTSTART;TZID=Europe/Brussels:20231207T080000
DTEND;TZID=Europe/Brussels:20231209T170000
DTSTAMP:20260420T043051
CREATED:20231108T103252Z
LAST-MODIFIED:20231108T103252Z
UID:6712-1701936000-1702141200@www.esge.org
SUMMARY:GESEA-ECRES level 1 Training session | Thessaloniki - Greece
DESCRIPTION:To REGISTER for the GESEA-ECRES level 1 Training session \nor \nrequest additional information\, \nplease click below: \nREGISTRATION & Information \nIMPORTANT: \nALL PARTICIPANTS must obtain a GESEA e-Learning Certificate via academy.esge.org \nin the respective level prior to the GESEA Session that they are participating in.
URL:https://www.esge.org/event-esge/gesea-ecres-level-1-training-session-thessaloniki-greece/
LOCATION:ESHRE\, ESHRE Central Office BXL7 - Building 1 Nijverheidslaan 3\, 1st floor B-1853 Strombeek-Bever\, Brussels\, Belgium
CATEGORIES:GESEA Workshops
ATTACH;FMTTYPE=image/png:https://www.esge.org/wp-content/uploads/2023/11/Logo_Eshre.png
END:VEVENT
END:VCALENDAR