BEGIN:VCALENDAR
VERSION:2.0
PRODID:-//European Society for Gynaecological Endoscopy - ECPv6.15.20//NONSGML v1.0//EN
CALSCALE:GREGORIAN
METHOD:PUBLISH
X-WR-CALNAME:European Society for Gynaecological Endoscopy
X-ORIGINAL-URL:https://www.esge.org
X-WR-CALDESC:Events for European Society for Gynaecological Endoscopy
REFRESH-INTERVAL;VALUE=DURATION:PT1H
X-Robots-Tag:noindex
X-PUBLISHED-TTL:PT1H
BEGIN:VTIMEZONE
TZID:Europe/Brussels
BEGIN:DAYLIGHT
TZOFFSETFROM:+0100
TZOFFSETTO:+0200
TZNAME:CEST
DTSTART:20220327T010000
END:DAYLIGHT
BEGIN:STANDARD
TZOFFSETFROM:+0200
TZOFFSETTO:+0100
TZNAME:CET
DTSTART:20221030T010000
END:STANDARD
BEGIN:DAYLIGHT
TZOFFSETFROM:+0100
TZOFFSETTO:+0200
TZNAME:CEST
DTSTART:20230326T010000
END:DAYLIGHT
BEGIN:STANDARD
TZOFFSETFROM:+0200
TZOFFSETTO:+0100
TZNAME:CET
DTSTART:20231029T010000
END:STANDARD
BEGIN:DAYLIGHT
TZOFFSETFROM:+0100
TZOFFSETTO:+0200
TZNAME:CEST
DTSTART:20240331T010000
END:DAYLIGHT
BEGIN:STANDARD
TZOFFSETFROM:+0200
TZOFFSETTO:+0100
TZNAME:CET
DTSTART:20241027T010000
END:STANDARD
END:VTIMEZONE
BEGIN:VEVENT
DTSTART;TZID=Europe/Brussels:20231215T080000
DTEND;TZID=Europe/Brussels:20231216T170000
DTSTAMP:20260420T050420
CREATED:20230706T124756Z
LAST-MODIFIED:20230706T124756Z
UID:6138-1702627200-1702746000@www.esge.org
SUMMARY:GESEA Level 1 and 2 Training and Certification session | Porto - Portugal
DESCRIPTION:GESEA Level 1 and 2 Training and Certification sessions \nREGISTRATION\n*if you have any further questions\, regarding the GESEA L1 / L2 Training and Certification Sessions  \nplease contact: silvia.bastos@cuf.pt \nIMPORTANT: \nALL PARTICIPANTS must obtain a GESEA e-Learning Certificate via academy.esge.org \nin the respective level prior to the GESEA Session that they are participating in. \nThey have also available all year: \n> Individual/pair training sessions\, by appointment.
URL:https://www.esge.org/event-esge/gesea-level-1-and-2-training-and-certification-session-porto-portugal/
LOCATION:CETEC\, Estrada da Circunvalacao 14341\, Porto\, 4100 - 180\, Portugal
CATEGORIES:GESEA Certification,GESEA Course
ATTACH;FMTTYPE=image/png:https://www.esge.org/wp-content/uploads/2021/01/logo_cetec1.png
ORGANIZER;CN="CETEC - Centro De Ensino e Treino Endoscopico Cirurgico":MAILTO:maria.mellocabral@cuf.pt
END:VEVENT
END:VCALENDAR