BEGIN:VCALENDAR
VERSION:2.0
PRODID:-//European Society for Gynaecological Endoscopy - ECPv6.15.20//NONSGML v1.0//EN
CALSCALE:GREGORIAN
METHOD:PUBLISH
X-WR-CALNAME:European Society for Gynaecological Endoscopy
X-ORIGINAL-URL:https://www.esge.org
X-WR-CALDESC:Events for European Society for Gynaecological Endoscopy
REFRESH-INTERVAL;VALUE=DURATION:PT1H
X-Robots-Tag:noindex
X-PUBLISHED-TTL:PT1H
BEGIN:VTIMEZONE
TZID:Europe/Brussels
BEGIN:DAYLIGHT
TZOFFSETFROM:+0100
TZOFFSETTO:+0200
TZNAME:CEST
DTSTART:20220327T010000
END:DAYLIGHT
BEGIN:STANDARD
TZOFFSETFROM:+0200
TZOFFSETTO:+0100
TZNAME:CET
DTSTART:20221030T010000
END:STANDARD
BEGIN:DAYLIGHT
TZOFFSETFROM:+0100
TZOFFSETTO:+0200
TZNAME:CEST
DTSTART:20230326T010000
END:DAYLIGHT
BEGIN:STANDARD
TZOFFSETFROM:+0200
TZOFFSETTO:+0100
TZNAME:CET
DTSTART:20231029T010000
END:STANDARD
BEGIN:DAYLIGHT
TZOFFSETFROM:+0100
TZOFFSETTO:+0200
TZNAME:CEST
DTSTART:20240331T010000
END:DAYLIGHT
BEGIN:STANDARD
TZOFFSETFROM:+0200
TZOFFSETTO:+0100
TZNAME:CET
DTSTART:20241027T010000
END:STANDARD
END:VTIMEZONE
BEGIN:VEVENT
DTSTART;TZID=Europe/Brussels:20230701T080000
DTEND;TZID=Europe/Brussels:20230702T170000
DTSTAMP:20260419T220944
CREATED:20230608T083327Z
LAST-MODIFIED:20230608T083327Z
UID:6001-1688198400-1688317200@www.esge.org
SUMMARY:GESEA Level 1 Certification Practical Training Workshop | Cape Town | South Africa
DESCRIPTION:This 2-day Workshop invites participants to learn\, test and improve their LAPAROSCOPIC SKILLS using the validated assessment and certification method developed by the ESGE.\nThe Workshop is open to all delegates interested in laparoscopic surgery. \nThis workshop focuses on:\n– LAPAROSCOPIC PSYCHOMOTOR skills (using LASTT1TM testing)\n– HYSTEROSCOPIC skills (using HYSTT1TM testing)\n– LAPAROSCOPIC SUTURING skills (using SUTT1TM testing) \nVenue: Surgical Skills Training Centre\, Red Cross War Memorial Children’s Hospital\, Rondebosch\, Cape Town. \nCourse fees:\nRegistration & Medical Officers R3 250\nSpecialists R3 750 \nINFORMATION & REGISTRATION \nFor more information\, please contact :\nclive.vangeems@uct.ac.za \nIMPORTANT: \nALL PARTICIPANTS must obtain a GESEA e-Learning Certificate via academy.esge.org \nin the respective level prior to the GESEA Session that they are participating in.
URL:https://www.esge.org/event-esge/gesea-level-1-certification-practical-training-workshop-cape-town-south-africa-2/
LOCATION:Surgical Skills Training Centre South-Africa\, Red Cross War Memorial Children’s Hospital Cape Town\, Cape Town\, South Africa
CATEGORIES:GESEA Course,GESEA Workshops
ATTACH;FMTTYPE=image/jpeg:https://www.esge.org/wp-content/uploads/2021/02/surgical-skills-logo.jpg
END:VEVENT
END:VCALENDAR