BEGIN:VCALENDAR
VERSION:2.0
PRODID:-//European Society for Gynaecological Endoscopy - ECPv6.15.20//NONSGML v1.0//EN
CALSCALE:GREGORIAN
METHOD:PUBLISH
X-WR-CALNAME:European Society for Gynaecological Endoscopy
X-ORIGINAL-URL:https://www.esge.org
X-WR-CALDESC:Events for European Society for Gynaecological Endoscopy
REFRESH-INTERVAL;VALUE=DURATION:PT1H
X-Robots-Tag:noindex
X-PUBLISHED-TTL:PT1H
BEGIN:VTIMEZONE
TZID:Europe/Brussels
BEGIN:DAYLIGHT
TZOFFSETFROM:+0100
TZOFFSETTO:+0200
TZNAME:CEST
DTSTART:20230326T010000
END:DAYLIGHT
BEGIN:STANDARD
TZOFFSETFROM:+0200
TZOFFSETTO:+0100
TZNAME:CET
DTSTART:20231029T010000
END:STANDARD
BEGIN:DAYLIGHT
TZOFFSETFROM:+0100
TZOFFSETTO:+0200
TZNAME:CEST
DTSTART:20240331T010000
END:DAYLIGHT
BEGIN:STANDARD
TZOFFSETFROM:+0200
TZOFFSETTO:+0100
TZNAME:CET
DTSTART:20241027T010000
END:STANDARD
BEGIN:DAYLIGHT
TZOFFSETFROM:+0100
TZOFFSETTO:+0200
TZNAME:CEST
DTSTART:20250330T010000
END:DAYLIGHT
BEGIN:STANDARD
TZOFFSETFROM:+0200
TZOFFSETTO:+0100
TZNAME:CET
DTSTART:20251026T010000
END:STANDARD
END:VTIMEZONE
BEGIN:VEVENT
DTSTART;TZID=Europe/Brussels:20240315T080000
DTEND;TZID=Europe/Brussels:20240315T170000
DTSTAMP:20260422T015438
CREATED:20231106T081501Z
LAST-MODIFIED:20231106T081501Z
UID:6668-1710489600-1710522000@www.esge.org
SUMMARY:GESEA | Level 1 & Level 2 Certification Session | Maribor – Slovenia
DESCRIPTION:To register for GESEA L1 & L2 Certification Session or for more information\, please contact: \n gesea.mf@um.si or tatjana.golob@um.si \nIMPORTANT: \nALL PARTICIPANTS must obtain a GESEA e-Learning Certificate via academy.esge.org \nin the respective level prior to the GESEA Session that they are participating in.
URL:https://www.esge.org/event-esge/gesea-level-1-level-2-certification-session-maribor-slovenia-3/
LOCATION:University Medical Centre Maribor\, Slovenia
CATEGORIES:GESEA Certification
ATTACH;FMTTYPE=image/jpeg:https://www.esge.org/wp-content/uploads/2022/12/Maribor_logo_800_512.jpg
ORGANIZER;CN="Faculty of Medicine%2C University of Maribor":MAILTO:gesea.mf@um.si
END:VEVENT
END:VCALENDAR