BEGIN:VCALENDAR
VERSION:2.0
PRODID:-//European Society for Gynaecological Endoscopy - ECPv6.15.20//NONSGML v1.0//EN
CALSCALE:GREGORIAN
METHOD:PUBLISH
X-WR-CALNAME:European Society for Gynaecological Endoscopy
X-ORIGINAL-URL:https://www.esge.org
X-WR-CALDESC:Events for European Society for Gynaecological Endoscopy
REFRESH-INTERVAL;VALUE=DURATION:PT1H
X-Robots-Tag:noindex
X-PUBLISHED-TTL:PT1H
BEGIN:VTIMEZONE
TZID:Europe/Brussels
BEGIN:DAYLIGHT
TZOFFSETFROM:+0100
TZOFFSETTO:+0200
TZNAME:CEST
DTSTART:20240331T010000
END:DAYLIGHT
BEGIN:STANDARD
TZOFFSETFROM:+0200
TZOFFSETTO:+0100
TZNAME:CET
DTSTART:20241027T010000
END:STANDARD
BEGIN:DAYLIGHT
TZOFFSETFROM:+0100
TZOFFSETTO:+0200
TZNAME:CEST
DTSTART:20250330T010000
END:DAYLIGHT
BEGIN:STANDARD
TZOFFSETFROM:+0200
TZOFFSETTO:+0100
TZNAME:CET
DTSTART:20251026T010000
END:STANDARD
BEGIN:DAYLIGHT
TZOFFSETFROM:+0100
TZOFFSETTO:+0200
TZNAME:CEST
DTSTART:20260329T010000
END:DAYLIGHT
BEGIN:STANDARD
TZOFFSETFROM:+0200
TZOFFSETTO:+0100
TZNAME:CET
DTSTART:20261025T010000
END:STANDARD
END:VTIMEZONE
BEGIN:VEVENT
DTSTART;TZID=Europe/Brussels:20250704T000000
DTEND;TZID=Europe/Brussels:20250704T235959
DTSTAMP:20260419T214223
CREATED:20250217T082058Z
LAST-MODIFIED:20250217T082058Z
UID:8888-1751587200-1751673599@www.esge.org
SUMMARY:GESEA | Level 1 | Training Course - Resident Gynecologists | CICE\, Clermont-Ferrand - France
DESCRIPTION:To register for the GESEA Level 1 Training Course – Resident Gynecologists Session\, please fill in the form below: \nREGISTRATION FORM \nIf you have any further questions or need to request additional information\, please contact the CICE team via secretariat@cice.fr  \nTo visit the organiser’s website\, please click below: \nWEBSITE \n*Please note that the course will be held in French \nIMPORTANT: \nALL PARTICIPANTS must obtain a GESEA e-Learning Certificate via academy.esge.org \nin the respective level prior to the GESEA Session that they are participating in.
URL:https://www.esge.org/event-esge/gesea-level-1-training-course-resident-gynecologists-cice-clermont-ferrand-france-3/
LOCATION:Elementor Header #82
CATEGORIES:GESEA Course
ATTACH;FMTTYPE=image/png:https://www.esge.org/wp-content/uploads/2020/11/logo_cice.png
END:VEVENT
END:VCALENDAR