BEGIN:VCALENDAR
VERSION:2.0
PRODID:-//European Society for Gynaecological Endoscopy - ECPv6.15.20//NONSGML v1.0//EN
CALSCALE:GREGORIAN
METHOD:PUBLISH
X-WR-CALNAME:European Society for Gynaecological Endoscopy
X-ORIGINAL-URL:https://www.esge.org
X-WR-CALDESC:Events for European Society for Gynaecological Endoscopy
REFRESH-INTERVAL;VALUE=DURATION:PT1H
X-Robots-Tag:noindex
X-PUBLISHED-TTL:PT1H
BEGIN:VTIMEZONE
TZID:Europe/Brussels
BEGIN:DAYLIGHT
TZOFFSETFROM:+0100
TZOFFSETTO:+0200
TZNAME:CEST
DTSTART:20250330T010000
END:DAYLIGHT
BEGIN:STANDARD
TZOFFSETFROM:+0200
TZOFFSETTO:+0100
TZNAME:CET
DTSTART:20251026T010000
END:STANDARD
BEGIN:DAYLIGHT
TZOFFSETFROM:+0100
TZOFFSETTO:+0200
TZNAME:CEST
DTSTART:20260329T010000
END:DAYLIGHT
BEGIN:STANDARD
TZOFFSETFROM:+0200
TZOFFSETTO:+0100
TZNAME:CET
DTSTART:20261025T010000
END:STANDARD
BEGIN:DAYLIGHT
TZOFFSETFROM:+0100
TZOFFSETTO:+0200
TZNAME:CEST
DTSTART:20270328T010000
END:DAYLIGHT
BEGIN:STANDARD
TZOFFSETFROM:+0200
TZOFFSETTO:+0100
TZNAME:CET
DTSTART:20271031T010000
END:STANDARD
END:VTIMEZONE
BEGIN:VEVENT
DTSTART;TZID=Europe/Brussels:20260423T080000
DTEND;TZID=Europe/Brussels:20260423T163000
DTSTAMP:20260419T234308
CREATED:20250926T104410Z
LAST-MODIFIED:20250926T104622Z
UID:13923-1776931200-1776961800@www.esge.org
SUMMARY:GESEA | Level 1 Training Session | Geneva – Switzerland
DESCRIPTION:GESEA | Level 1 Training Session | Geneva – Switzerland\n\n\n\n\nTo register or if  you have any further questions\, regarding the GESEA Training Session \nplease click below: \nREGISTRATION \nPlease click below to view all GESEA activities in the SFITS GESEA Training Centre: \nGESEA Activities – Agenda \nIMPORTANT: \nALL PARTICIPANTS must obtain a GESEA e-Learning Certificate via academy.esge.org \nin the respective level prior to the GESEA Session that they are participating in.
URL:https://www.esge.org/event-esge/gesea-level-1-training-session-geneva-switzerland/
LOCATION:SWISS Foundation for Innovation and Training in Surgery (SFITS) – GESEA Centre\, Avenue Gabrielle-Perret-Gentil 4\, Geneva\, Geneva\, CH - 1205\, Switzerland
ATTACH;FMTTYPE=image/png:https://www.esge.org/wp-content/uploads/2025/09/Picture1.png
ORGANIZER;CN="SWISS Foundation for Innovation and Training in Surgery (SFITS) %E2%80%93 GESEA Centre":MAILTO:sfits@sfits.ch
END:VEVENT
END:VCALENDAR