BEGIN:VCALENDAR
VERSION:2.0
PRODID:-//European Society for Gynaecological Endoscopy - ECPv6.15.20//NONSGML v1.0//EN
CALSCALE:GREGORIAN
METHOD:PUBLISH
X-WR-CALNAME:European Society for Gynaecological Endoscopy
X-ORIGINAL-URL:https://www.esge.org
X-WR-CALDESC:Events for European Society for Gynaecological Endoscopy
REFRESH-INTERVAL;VALUE=DURATION:PT1H
X-Robots-Tag:noindex
X-PUBLISHED-TTL:PT1H
BEGIN:VTIMEZONE
TZID:Europe/Brussels
BEGIN:DAYLIGHT
TZOFFSETFROM:+0100
TZOFFSETTO:+0200
TZNAME:CEST
DTSTART:20230326T010000
END:DAYLIGHT
BEGIN:STANDARD
TZOFFSETFROM:+0200
TZOFFSETTO:+0100
TZNAME:CET
DTSTART:20231029T010000
END:STANDARD
BEGIN:DAYLIGHT
TZOFFSETFROM:+0100
TZOFFSETTO:+0200
TZNAME:CEST
DTSTART:20240331T010000
END:DAYLIGHT
BEGIN:STANDARD
TZOFFSETFROM:+0200
TZOFFSETTO:+0100
TZNAME:CET
DTSTART:20241027T010000
END:STANDARD
BEGIN:DAYLIGHT
TZOFFSETFROM:+0100
TZOFFSETTO:+0200
TZNAME:CEST
DTSTART:20250330T010000
END:DAYLIGHT
BEGIN:STANDARD
TZOFFSETFROM:+0200
TZOFFSETTO:+0100
TZNAME:CET
DTSTART:20251026T010000
END:STANDARD
END:VTIMEZONE
BEGIN:VEVENT
DTSTART;TZID=Europe/Brussels:20240216T080000
DTEND;TZID=Europe/Brussels:20240217T170000
DTSTAMP:20260422T015922
CREATED:20231220T135644Z
LAST-MODIFIED:20231220T135644Z
UID:7109-1708070400-1708189200@www.esge.org
SUMMARY:GESEA | Level 2 Certification | Cape Town-South Africa
DESCRIPTION:To request additional information for the GESEA L2 Certification \nplease contact the GESEA Diploma Centre via: \nkerryn.macdermott@uct.ac.za \nINFORMATION & REGISTRATION \nIMPORTANT: \nALL PARTICIPANTS must obtain a GESEA e-Learning Certificate via academy.esge.org \nin the respective level prior to the GESEA Session that they are participating in.
URL:https://www.esge.org/event-esge/gesea-level-2-certification-cape-town-south-africa-2/
LOCATION:Surgical Skills Training Centre South-Africa\, Red Cross War Memorial Children’s Hospital Cape Town\, Cape Town\, South Africa
CATEGORIES:GESEA Certification
ATTACH;FMTTYPE=image/png:https://www.esge.org/wp-content/uploads/2021/01/surgical-skills-logo.png
END:VEVENT
END:VCALENDAR