BEGIN:VCALENDAR
VERSION:2.0
PRODID:-//European Society for Gynaecological Endoscopy - ECPv6.15.20//NONSGML v1.0//EN
CALSCALE:GREGORIAN
METHOD:PUBLISH
X-WR-CALNAME:European Society for Gynaecological Endoscopy
X-ORIGINAL-URL:https://www.esge.org
X-WR-CALDESC:Events for European Society for Gynaecological Endoscopy
REFRESH-INTERVAL;VALUE=DURATION:PT1H
X-Robots-Tag:noindex
X-PUBLISHED-TTL:PT1H
BEGIN:VTIMEZONE
TZID:Europe/Brussels
BEGIN:DAYLIGHT
TZOFFSETFROM:+0100
TZOFFSETTO:+0200
TZNAME:CEST
DTSTART:20220327T010000
END:DAYLIGHT
BEGIN:STANDARD
TZOFFSETFROM:+0200
TZOFFSETTO:+0100
TZNAME:CET
DTSTART:20221030T010000
END:STANDARD
BEGIN:DAYLIGHT
TZOFFSETFROM:+0100
TZOFFSETTO:+0200
TZNAME:CEST
DTSTART:20230326T010000
END:DAYLIGHT
BEGIN:STANDARD
TZOFFSETFROM:+0200
TZOFFSETTO:+0100
TZNAME:CET
DTSTART:20231029T010000
END:STANDARD
BEGIN:DAYLIGHT
TZOFFSETFROM:+0100
TZOFFSETTO:+0200
TZNAME:CEST
DTSTART:20240331T010000
END:DAYLIGHT
BEGIN:STANDARD
TZOFFSETFROM:+0200
TZOFFSETTO:+0100
TZNAME:CET
DTSTART:20241027T010000
END:STANDARD
END:VTIMEZONE
BEGIN:VEVENT
DTSTART;TZID=Europe/Brussels:20230309T080000
DTEND;TZID=Europe/Brussels:20230311T170000
DTSTAMP:20260419T172946
CREATED:20230306T093601Z
LAST-MODIFIED:20230306T093601Z
UID:5566-1678348800-1678554000@www.esge.org
SUMMARY:GESEA Course and Exam Level 2 | Bern - Switzerland
DESCRIPTION:To REGISTER for the GESEA L2 Certification Session or request additional information please see below. \n  \nCourse update: This course is fully booked. There is a waiting list\, and registration by e-mail is possible.\nPlease indicate course name\, implementation date and contact the course organiser. \nRegistration waiting list: \nswissendos@agendoskopie.ch \nIMPORTANT: \nALL PARTICIPANTS must obtain a GESEA e-Learning Certificate via academy.esge.org \nin the respective level prior to the GESEA Session that they are participating in.
URL:https://www.esge.org/event-esge/gesea-level-2-certification-session-bern-switzerland/
LOCATION:AGE Swissendos\, sitem-insel\, Freiburgstrasse 3\, Bern\, 3010
CATEGORIES:GESEA Certification,GESEA Course
ATTACH;FMTTYPE=image/jpeg:https://www.esge.org/wp-content/uploads/2023/03/AGE2.jpg
END:VEVENT
END:VCALENDAR