BEGIN:VCALENDAR
VERSION:2.0
PRODID:-//European Society for Gynaecological Endoscopy - ECPv6.15.20//NONSGML v1.0//EN
CALSCALE:GREGORIAN
METHOD:PUBLISH
X-WR-CALNAME:European Society for Gynaecological Endoscopy
X-ORIGINAL-URL:https://www.esge.org
X-WR-CALDESC:Events for European Society for Gynaecological Endoscopy
REFRESH-INTERVAL;VALUE=DURATION:PT1H
X-Robots-Tag:noindex
X-PUBLISHED-TTL:PT1H
BEGIN:VTIMEZONE
TZID:Europe/Brussels
BEGIN:DAYLIGHT
TZOFFSETFROM:+0100
TZOFFSETTO:+0200
TZNAME:CEST
DTSTART:20220327T010000
END:DAYLIGHT
BEGIN:STANDARD
TZOFFSETFROM:+0200
TZOFFSETTO:+0100
TZNAME:CET
DTSTART:20221030T010000
END:STANDARD
BEGIN:DAYLIGHT
TZOFFSETFROM:+0100
TZOFFSETTO:+0200
TZNAME:CEST
DTSTART:20230326T010000
END:DAYLIGHT
BEGIN:STANDARD
TZOFFSETFROM:+0200
TZOFFSETTO:+0100
TZNAME:CET
DTSTART:20231029T010000
END:STANDARD
BEGIN:DAYLIGHT
TZOFFSETFROM:+0100
TZOFFSETTO:+0200
TZNAME:CEST
DTSTART:20240331T010000
END:DAYLIGHT
BEGIN:STANDARD
TZOFFSETFROM:+0200
TZOFFSETTO:+0100
TZNAME:CET
DTSTART:20241027T010000
END:STANDARD
END:VTIMEZONE
BEGIN:VEVENT
DTSTART;VALUE=DATE:20230331
DTEND;VALUE=DATE:20230401
DTSTAMP:20260420T170739
CREATED:20221213T090347Z
LAST-MODIFIED:20221213T090347Z
UID:4346-1680220800-1680307199@www.esge.org
SUMMARY:GESEA Level 1 Certification Session | Maribor – Slovenia
DESCRIPTION:Regsitration\n*if you have any further questions\, regarding the GESEA L1 Certification Session \nplease send a mail to gesea.mf@um.si or  \ncontact the GESEA administrator Mrs. Monika Sobočan: monika.sobocan3@um.si \nPROGRAMME  \nIMPORTANT: \nALL PARTICIPANTS must obtain a GESEA e-Learning Certificate via academy.esge.org \nin the respective level prior to the GESEA Session that they are participating in. \n\n\n\n\n 
URL:https://www.esge.org/event-esge/gesea-level-2-certification-session-maribor-slovenia/
LOCATION:University Medical Centre Maribor\, Slovenia
CATEGORIES:GESEA Certification
ATTACH;FMTTYPE=image/jpeg:https://www.esge.org/wp-content/uploads/2022/12/Maribor_logo_800_512.jpg
ORGANIZER;CN="Faculty of Medicine%2C University of Maribor":MAILTO:gesea.mf@um.si
END:VEVENT
END:VCALENDAR