BEGIN:VCALENDAR
VERSION:2.0
PRODID:-//European Society for Gynaecological Endoscopy - ECPv6.15.20//NONSGML v1.0//EN
CALSCALE:GREGORIAN
METHOD:PUBLISH
X-WR-CALNAME:European Society for Gynaecological Endoscopy
X-ORIGINAL-URL:https://www.esge.org
X-WR-CALDESC:Events for European Society for Gynaecological Endoscopy
REFRESH-INTERVAL;VALUE=DURATION:PT1H
X-Robots-Tag:noindex
X-PUBLISHED-TTL:PT1H
BEGIN:VTIMEZONE
TZID:Europe/Brussels
BEGIN:DAYLIGHT
TZOFFSETFROM:+0100
TZOFFSETTO:+0200
TZNAME:CEST
DTSTART:20250330T010000
END:DAYLIGHT
BEGIN:STANDARD
TZOFFSETFROM:+0200
TZOFFSETTO:+0100
TZNAME:CET
DTSTART:20251026T010000
END:STANDARD
BEGIN:DAYLIGHT
TZOFFSETFROM:+0100
TZOFFSETTO:+0200
TZNAME:CEST
DTSTART:20260329T010000
END:DAYLIGHT
BEGIN:STANDARD
TZOFFSETFROM:+0200
TZOFFSETTO:+0100
TZNAME:CET
DTSTART:20261025T010000
END:STANDARD
BEGIN:DAYLIGHT
TZOFFSETFROM:+0100
TZOFFSETTO:+0200
TZNAME:CEST
DTSTART:20270328T010000
END:DAYLIGHT
BEGIN:STANDARD
TZOFFSETFROM:+0200
TZOFFSETTO:+0100
TZNAME:CET
DTSTART:20271031T010000
END:STANDARD
END:VTIMEZONE
BEGIN:VEVENT
DTSTART;VALUE=DATE:20260425
DTEND;VALUE=DATE:20260428
DTSTAMP:20260420T012427
CREATED:20251103T115548Z
LAST-MODIFIED:20251103T115805Z
UID:14241-1777075200-1777334399@www.esge.org
SUMMARY:GESEA Training Course | Cairo – Egypt
DESCRIPTION:To register for the GESEA Training Course\, please contact the centre via info@geseacairo.com and dr.m.kandeel@gmail.com \nOR register via the centre’s WEBSITE \nIf you have any further questions or need to request additional information\, please call: \n00201204022817 \n00201000189008
URL:https://www.esge.org/event-esge/gesea-training-course-cairo-egypt/
LOCATION:Omam Hospital Cairo\, 14 El-Nakheel Street\, Mohandeseen\, Cairo\, 3751411\, Egypt
CATEGORIES:GESEA Workshops
ATTACH;FMTTYPE=image/png:https://www.esge.org/wp-content/uploads/2025/06/Untitled-design-28-1.png
END:VEVENT
END:VCALENDAR