BEGIN:VCALENDAR
VERSION:2.0
PRODID:-//European Society for Gynaecological Endoscopy - ECPv6.15.20//NONSGML v1.0//EN
CALSCALE:GREGORIAN
METHOD:PUBLISH
X-WR-CALNAME:European Society for Gynaecological Endoscopy
X-ORIGINAL-URL:https://www.esge.org
X-WR-CALDESC:Events for European Society for Gynaecological Endoscopy
REFRESH-INTERVAL;VALUE=DURATION:PT1H
X-Robots-Tag:noindex
X-PUBLISHED-TTL:PT1H
BEGIN:VTIMEZONE
TZID:Europe/Brussels
BEGIN:DAYLIGHT
TZOFFSETFROM:+0100
TZOFFSETTO:+0200
TZNAME:CEST
DTSTART:20220327T010000
END:DAYLIGHT
BEGIN:STANDARD
TZOFFSETFROM:+0200
TZOFFSETTO:+0100
TZNAME:CET
DTSTART:20221030T010000
END:STANDARD
BEGIN:DAYLIGHT
TZOFFSETFROM:+0100
TZOFFSETTO:+0200
TZNAME:CEST
DTSTART:20230326T010000
END:DAYLIGHT
BEGIN:STANDARD
TZOFFSETFROM:+0200
TZOFFSETTO:+0100
TZNAME:CET
DTSTART:20231029T010000
END:STANDARD
BEGIN:DAYLIGHT
TZOFFSETFROM:+0100
TZOFFSETTO:+0200
TZNAME:CEST
DTSTART:20240331T010000
END:DAYLIGHT
BEGIN:STANDARD
TZOFFSETFROM:+0200
TZOFFSETTO:+0100
TZNAME:CET
DTSTART:20241027T010000
END:STANDARD
END:VTIMEZONE
BEGIN:VEVENT
DTSTART;TZID=Europe/Brussels:20230607T000000
DTEND;TZID=Europe/Brussels:20230610T235900
DTSTAMP:20260422T070432
CREATED:20221220T213337Z
LAST-MODIFIED:20221220T213337Z
UID:4441-1686096000-1686441540@www.esge.org
SUMMARY:GESEA Workshop & GESEA L1 Certification Session | Leuven – Belgium
DESCRIPTION:GESEA Workshop and GESEA L1 Certification Session | Leuven – Belgium \nTo regsiter please click below or contact MIS Academy via info@mis-academy.be \nREGISTRATION \n  \nIMPORTANT: \nALL PARTICIPANTS must obtain a GESEA e-Learning Certificate via academy.esge.org \nin the respective level prior to the GESEA Session that they are participating in.
URL:https://www.esge.org/event-esge/gesea-workshop-migs-leuven-belgium/
LOCATION:Elementor Header #82
CATEGORIES:GESEA Certification,GESEA Workshops
ATTACH;FMTTYPE=image/png:https://www.esge.org/wp-content/uploads/2022/12/MIS-Academy-NEW.png
ORGANIZER;CN="MIS Academy Europe":MAILTO:info@mis-academy.be info@europeanacademy.org
END:VEVENT
END:VCALENDAR