BEGIN:VCALENDAR
VERSION:2.0
PRODID:-//European Society for Gynaecological Endoscopy - ECPv6.15.20//NONSGML v1.0//EN
CALSCALE:GREGORIAN
METHOD:PUBLISH
X-WR-CALNAME:European Society for Gynaecological Endoscopy
X-ORIGINAL-URL:https://www.esge.org
X-WR-CALDESC:Events for European Society for Gynaecological Endoscopy
REFRESH-INTERVAL;VALUE=DURATION:PT1H
X-Robots-Tag:noindex
X-PUBLISHED-TTL:PT1H
BEGIN:VTIMEZONE
TZID:Europe/Brussels
BEGIN:DAYLIGHT
TZOFFSETFROM:+0100
TZOFFSETTO:+0200
TZNAME:CEST
DTSTART:20230326T010000
END:DAYLIGHT
BEGIN:STANDARD
TZOFFSETFROM:+0200
TZOFFSETTO:+0100
TZNAME:CET
DTSTART:20231029T010000
END:STANDARD
BEGIN:DAYLIGHT
TZOFFSETFROM:+0100
TZOFFSETTO:+0200
TZNAME:CEST
DTSTART:20240331T010000
END:DAYLIGHT
BEGIN:STANDARD
TZOFFSETFROM:+0200
TZOFFSETTO:+0100
TZNAME:CET
DTSTART:20241027T010000
END:STANDARD
BEGIN:DAYLIGHT
TZOFFSETFROM:+0100
TZOFFSETTO:+0200
TZNAME:CEST
DTSTART:20250330T010000
END:DAYLIGHT
BEGIN:STANDARD
TZOFFSETFROM:+0200
TZOFFSETTO:+0100
TZNAME:CET
DTSTART:20251026T010000
END:STANDARD
END:VTIMEZONE
BEGIN:VEVENT
DTSTART;TZID=Europe/Brussels:20240411T080000
DTEND;TZID=Europe/Brussels:20240412T170000
DTSTAMP:20260422T035706
CREATED:20231213T103758Z
LAST-MODIFIED:20231213T103758Z
UID:6888-1712822400-1712941200@www.esge.org
SUMMARY:GESEA4EU | Basic Laparoscopy & Hysteroscopy | Katowice-Poland/FPG
DESCRIPTION:DATE:\n11-12 April 2024 \n  \nGESEA4EU Course Description:\nThe basic laparoscopy/hysteroscopy module is aimed at Specialist Professionals to provide them with the basic laparoscopic/hysteroscopic knowledge and psychomotor skills. \n  \nThe Course is FULLY BOOKED. \n  \nCONTACT:\nFor more information please contact:\neffka.k@gmail.com \n  \nPROGRAMME \n  \nLOCATION:\nThe Center for Experimental Medicine\, Medical University of Silesia\, Medyków Street 4\, 40-752 Katowice Poland \n  \nWEBSITE:\nGESEA4EU \n 
URL:https://www.esge.org/event-esge/gesea4eu-basic-laparoscopy-hysteroscopy-poland-fpg/
CATEGORIES:GESEA Workshops,GESEA4EU
ATTACH;FMTTYPE=image/png:https://www.esge.org/wp-content/uploads/2023/12/GESEA4EU-New-Target-Centre-Poland.png
END:VEVENT
END:VCALENDAR