BEGIN:VCALENDAR
VERSION:2.0
PRODID:-//European Society for Gynaecological Endoscopy - ECPv6.15.20//NONSGML v1.0//EN
CALSCALE:GREGORIAN
METHOD:PUBLISH
X-WR-CALNAME:European Society for Gynaecological Endoscopy
X-ORIGINAL-URL:https://www.esge.org
X-WR-CALDESC:Events for European Society for Gynaecological Endoscopy
REFRESH-INTERVAL;VALUE=DURATION:PT1H
X-Robots-Tag:noindex
X-PUBLISHED-TTL:PT1H
BEGIN:VTIMEZONE
TZID:Europe/Brussels
BEGIN:DAYLIGHT
TZOFFSETFROM:+0100
TZOFFSETTO:+0200
TZNAME:CEST
DTSTART:20230326T010000
END:DAYLIGHT
BEGIN:STANDARD
TZOFFSETFROM:+0200
TZOFFSETTO:+0100
TZNAME:CET
DTSTART:20231029T010000
END:STANDARD
BEGIN:DAYLIGHT
TZOFFSETFROM:+0100
TZOFFSETTO:+0200
TZNAME:CEST
DTSTART:20240331T010000
END:DAYLIGHT
BEGIN:STANDARD
TZOFFSETFROM:+0200
TZOFFSETTO:+0100
TZNAME:CET
DTSTART:20241027T010000
END:STANDARD
BEGIN:DAYLIGHT
TZOFFSETFROM:+0100
TZOFFSETTO:+0200
TZNAME:CEST
DTSTART:20250330T010000
END:DAYLIGHT
BEGIN:STANDARD
TZOFFSETFROM:+0200
TZOFFSETTO:+0100
TZNAME:CET
DTSTART:20251026T010000
END:STANDARD
END:VTIMEZONE
BEGIN:VEVENT
DTSTART;TZID=Europe/Brussels:20240717T080000
DTEND;TZID=Europe/Brussels:20240718T170000
DTSTAMP:20260422T003224
CREATED:20231212T080358Z
LAST-MODIFIED:20231212T080358Z
UID:6861-1721203200-1721322000@www.esge.org
SUMMARY:GESEA4EU | Intermediate Laparoscopy & Hysteroscopy | CICE | Clermont-Ferrand – France
DESCRIPTION:DATE:\n17-18 July 2024 \n  \nGESEA4EU Course Description:\nThe intermediate Laparoscopy and hysteroscopy modules are aimed at Specialist Professionals to provide them with\nthe laparoscopic knowledge and psychomotor skills for laparoscopic procedures. \n  \n\nThe Course is FULLY BOOKED. \n  \nCONTACT:\nFor more information please contact:\nbeatrice.jaffeux.cice@gmail.com \n  \nPROGRAMME \n  \nPARTNER | ORGANISER:\nCentre International De Chirurgie Endoscopique (CICE)\, France \n  \nLOCATION:\nBât. 3C – Faculté de Médecine 28\,\nPlace Henri Dunant 63000\,\nClermont-Ferrand France \n  \nWEBSITE:\nGESEA4EU
URL:https://www.esge.org/event-esge/gesea4eu-intermediate-laparoscopy-hysteroscopy-cice-clermont-ferrand-france/
LOCATION:Elementor Header #82
CATEGORIES:GESEA Workshops,GESEA4EU
ATTACH;FMTTYPE=image/png:https://www.esge.org/wp-content/uploads/2023/10/1.png
END:VEVENT
END:VCALENDAR