BEGIN:VCALENDAR
VERSION:2.0
PRODID:-//European Society for Gynaecological Endoscopy - ECPv6.15.20//NONSGML v1.0//EN
CALSCALE:GREGORIAN
METHOD:PUBLISH
X-WR-CALNAME:European Society for Gynaecological Endoscopy
X-ORIGINAL-URL:https://www.esge.org
X-WR-CALDESC:Events for European Society for Gynaecological Endoscopy
REFRESH-INTERVAL;VALUE=DURATION:PT1H
X-Robots-Tag:noindex
X-PUBLISHED-TTL:PT1H
BEGIN:VTIMEZONE
TZID:Europe/Brussels
BEGIN:DAYLIGHT
TZOFFSETFROM:+0100
TZOFFSETTO:+0200
TZNAME:CEST
DTSTART:20230326T010000
END:DAYLIGHT
BEGIN:STANDARD
TZOFFSETFROM:+0200
TZOFFSETTO:+0100
TZNAME:CET
DTSTART:20231029T010000
END:STANDARD
BEGIN:DAYLIGHT
TZOFFSETFROM:+0100
TZOFFSETTO:+0200
TZNAME:CEST
DTSTART:20240331T010000
END:DAYLIGHT
BEGIN:STANDARD
TZOFFSETFROM:+0200
TZOFFSETTO:+0100
TZNAME:CET
DTSTART:20241027T010000
END:STANDARD
BEGIN:DAYLIGHT
TZOFFSETFROM:+0100
TZOFFSETTO:+0200
TZNAME:CEST
DTSTART:20250330T010000
END:DAYLIGHT
BEGIN:STANDARD
TZOFFSETFROM:+0200
TZOFFSETTO:+0100
TZNAME:CET
DTSTART:20251026T010000
END:STANDARD
END:VTIMEZONE
BEGIN:VEVENT
DTSTART;TZID=Europe/Brussels:20240516T080000
DTEND;TZID=Europe/Brussels:20240517T170000
DTSTAMP:20260422T021217
CREATED:20231212T080006Z
LAST-MODIFIED:20231212T080006Z
UID:6859-1715846400-1715965200@www.esge.org
SUMMARY:GESEA4EU | Intermediate Laparoscopy & Hysteroscopy | Naples – Italy
DESCRIPTION:DATE:\n16-17 May 2024 \n  \nGESEA4EU Course Description:\nThe intermediate Laparoscopy and hysteroscopy modules are aimed at Specialist Professionals to provide them with the laparoscopic knowledge and psychomotor skills for laparoscopic procedures. \n  \n\nThe Course is FULLY BOOKED. \n  \nCONTACT:\nTo register or if you have any further questions\, regarding the Course please contact: \nfrancescopaolo.improda@gmail.com \n& \ninfo@newcongress.it \n  \n  \nPROGRAMME \n  \n\nPARTNER | ORGANISER:\nUniversita Degli Studi Di Napoli Federico II (UNINA) \n  \nLOCATION:\nVia Sergio Pansini 5\, 80131 Naples Italy\n \n  \nWEBSITE:\nGESEA4EU
URL:https://www.esge.org/event-esge/gesea4eu-intermediate-laparoscopy-hysteroscopy-naples-italy/
LOCATION:Elementor Header #82
CATEGORIES:GESEA Workshops,GESEA4EU
ATTACH;FMTTYPE=image/png:https://www.esge.org/wp-content/uploads/2023/10/7.png
ORGANIZER;CN="Department Gynecology and Obstetrics%2C University of Naples Federico II":MAILTO:info@newcongress.it
END:VEVENT
END:VCALENDAR