BEGIN:VCALENDAR
VERSION:2.0
PRODID:-//European Society for Gynaecological Endoscopy - ECPv6.15.20//NONSGML v1.0//EN
CALSCALE:GREGORIAN
METHOD:PUBLISH
X-WR-CALNAME:European Society for Gynaecological Endoscopy
X-ORIGINAL-URL:https://www.esge.org
X-WR-CALDESC:Events for European Society for Gynaecological Endoscopy
REFRESH-INTERVAL;VALUE=DURATION:PT1H
X-Robots-Tag:noindex
X-PUBLISHED-TTL:PT1H
BEGIN:VTIMEZONE
TZID:Europe/Brussels
BEGIN:DAYLIGHT
TZOFFSETFROM:+0100
TZOFFSETTO:+0200
TZNAME:CEST
DTSTART:20200329T010000
END:DAYLIGHT
BEGIN:STANDARD
TZOFFSETFROM:+0200
TZOFFSETTO:+0100
TZNAME:CET
DTSTART:20201025T010000
END:STANDARD
BEGIN:DAYLIGHT
TZOFFSETFROM:+0100
TZOFFSETTO:+0200
TZNAME:CEST
DTSTART:20210328T010000
END:DAYLIGHT
BEGIN:STANDARD
TZOFFSETFROM:+0200
TZOFFSETTO:+0100
TZNAME:CET
DTSTART:20211031T010000
END:STANDARD
BEGIN:DAYLIGHT
TZOFFSETFROM:+0100
TZOFFSETTO:+0200
TZNAME:CEST
DTSTART:20220327T010000
END:DAYLIGHT
BEGIN:STANDARD
TZOFFSETFROM:+0200
TZOFFSETTO:+0100
TZNAME:CET
DTSTART:20221030T010000
END:STANDARD
END:VTIMEZONE
BEGIN:VEVENT
DTSTART;TZID=Europe/Brussels:20211025T080000
DTEND;TZID=Europe/Brussels:20211025T170000
DTSTAMP:20260419T164309
CREATED:20210903T082550Z
LAST-MODIFIED:20210903T082550Z
UID:2756-1635148800-1635181200@www.esge.org
SUMMARY:Master in Surgical Management of Deep Endometriosis (MIS Academy/ESGE)
DESCRIPTION:Master course “Master in Surgical Management of Deep Endometriosis” (6 Months) accredited by the European Society for Gynaecological Endoscopy >>> Programme \nAll information to be found here
URL:https://www.esge.org/event-esge/master-in-surgical-management-of-deep-endometriosis-mis-academy-esge/
LOCATION:MIS Academy\, Office 904\, XL Tower Marasi Drive\, Business Bay\, Dubai\, Dubai\, United Arab Emirates
CATEGORIES:ESGE Workshops,GESEA Masterclasses
ATTACH;FMTTYPE=image/jpeg:https://www.esge.org/wp-content/uploads/2021/09/Endo-Banner-ESGE.jpeg
END:VEVENT
END:VCALENDAR