BEGIN:VCALENDAR
VERSION:2.0
PRODID:-//European Society for Gynaecological Endoscopy - ECPv6.15.20//NONSGML v1.0//EN
CALSCALE:GREGORIAN
METHOD:PUBLISH
X-WR-CALNAME:European Society for Gynaecological Endoscopy
X-ORIGINAL-URL:https://www.esge.org
X-WR-CALDESC:Events for European Society for Gynaecological Endoscopy
REFRESH-INTERVAL;VALUE=DURATION:PT1H
X-Robots-Tag:noindex
X-PUBLISHED-TTL:PT1H
BEGIN:VTIMEZONE
TZID:Europe/Brussels
BEGIN:DAYLIGHT
TZOFFSETFROM:+0100
TZOFFSETTO:+0200
TZNAME:CEST
DTSTART:20200329T010000
END:DAYLIGHT
BEGIN:STANDARD
TZOFFSETFROM:+0200
TZOFFSETTO:+0100
TZNAME:CET
DTSTART:20201025T010000
END:STANDARD
BEGIN:DAYLIGHT
TZOFFSETFROM:+0100
TZOFFSETTO:+0200
TZNAME:CEST
DTSTART:20210328T010000
END:DAYLIGHT
BEGIN:STANDARD
TZOFFSETFROM:+0200
TZOFFSETTO:+0100
TZNAME:CET
DTSTART:20211031T010000
END:STANDARD
BEGIN:DAYLIGHT
TZOFFSETFROM:+0100
TZOFFSETTO:+0200
TZNAME:CEST
DTSTART:20220327T010000
END:DAYLIGHT
BEGIN:STANDARD
TZOFFSETFROM:+0200
TZOFFSETTO:+0100
TZNAME:CET
DTSTART:20221030T010000
END:STANDARD
END:VTIMEZONE
BEGIN:VEVENT
DTSTART;TZID=Europe/Brussels:20210525T080000
DTEND;TZID=Europe/Brussels:20210527T170000
DTSTAMP:20260420T030321
CREATED:20210121T095044Z
LAST-MODIFIED:20210121T095044Z
UID:768-1621929600-1622134800@www.esge.org
SUMMARY:RCOG/BSGE Diagnostic and Operative Hysteroscopy
DESCRIPTION:This meeting will cover a range of theoretical topics on diagnostic and operative hysteroscopic surgery. Lectures include current and future developments in hysteroscopic procedures\, new energy forms and innovative ambulatory surgery. \nThe role of hysteroscopy in the management of abnormal uterine bleeding and fertility is explored. There is an emphasis on undertaking hysteroscopic procedures in an outpatient setting with guidance on how to optimise and develop such services.
URL:https://www.esge.org/event-esge/rcog-bsge-diagnostic-and-operative-hysteroscopy/
LOCATION:British Society for Gynaecological Endoscopy (BSGE)
CATEGORIES:Other Events
END:VEVENT
END:VCALENDAR