BEGIN:VCALENDAR
VERSION:2.0
PRODID:-//European Society for Gynaecological Endoscopy - ECPv6.15.20//NONSGML v1.0//EN
CALSCALE:GREGORIAN
METHOD:PUBLISH
X-WR-CALNAME:European Society for Gynaecological Endoscopy
X-ORIGINAL-URL:https://www.esge.org
X-WR-CALDESC:Events for European Society for Gynaecological Endoscopy
REFRESH-INTERVAL;VALUE=DURATION:PT1H
X-Robots-Tag:noindex
X-PUBLISHED-TTL:PT1H
BEGIN:VTIMEZONE
TZID:Europe/Brussels
BEGIN:DAYLIGHT
TZOFFSETFROM:+0100
TZOFFSETTO:+0200
TZNAME:CEST
DTSTART:20220327T010000
END:DAYLIGHT
BEGIN:STANDARD
TZOFFSETFROM:+0200
TZOFFSETTO:+0100
TZNAME:CET
DTSTART:20221030T010000
END:STANDARD
BEGIN:DAYLIGHT
TZOFFSETFROM:+0100
TZOFFSETTO:+0200
TZNAME:CEST
DTSTART:20230326T010000
END:DAYLIGHT
BEGIN:STANDARD
TZOFFSETFROM:+0200
TZOFFSETTO:+0100
TZNAME:CET
DTSTART:20231029T010000
END:STANDARD
BEGIN:DAYLIGHT
TZOFFSETFROM:+0100
TZOFFSETTO:+0200
TZNAME:CEST
DTSTART:20240331T010000
END:DAYLIGHT
BEGIN:STANDARD
TZOFFSETFROM:+0200
TZOFFSETTO:+0100
TZNAME:CET
DTSTART:20241027T010000
END:STANDARD
END:VTIMEZONE
BEGIN:VEVENT
DTSTART;VALUE=DATE:20230920
DTEND;VALUE=DATE:20230923
DTSTAMP:20260420T185954
CREATED:20230614T132019Z
LAST-MODIFIED:20230614T132019Z
UID:6023-1695168000-1695427199@www.esge.org
SUMMARY:SCGP Annual Congress + GESEA CERTIFICATION L1 & L2 | Strasbourg | 20th - 22nd September 2023
DESCRIPTION:Dear friends and colleagues\, \nIt is a pleasure to inform you that the SCGP Annual Congress will take place in Strasbourg\, from 20th till 22nd September 2023. \nIt is with this theme\, innovation and excellence for women’s health\, that the 20th SCGP days will attempt to highlight surgical and technological advances. \nBacked by a history and international expertise\, the Strasbourg team will take up this delicate mission of organizing the various discussions held in a rich and dense programme. \nUnder the chairmanship of Prof. Arnaud Wattiez \nREGISTER FOR SCGP ANNUAL CONGRESS \nSCGP WEBSITE & MORE INFO \n  \nThere will be an opportunity to participate in the GESEA Certification Level 1 and 2 on 22nd September. \nTo register please click below: \nAPPLY FOR GESEA CERT Level 1 \nAPPLY FOR GESEA CERT Level 2 \nIMPORTANT: \nALL PARTICIPANTS must obtain a GESEA e-Learning Certificate via academy.esge.org \nin the respective level prior to the GESEA Session that they are participating in.
URL:https://www.esge.org/event-esge/scgp-annual-congress-gesea-certification-l1-l2-strasbourg-20th-22nd-september-2023/
CATEGORIES:Congresses,GESEA Certification
ATTACH;FMTTYPE=image/jpeg:https://www.esge.org/wp-content/uploads/2023/06/STD-SCGP-23-1920x1080-1.jpg
END:VEVENT
END:VCALENDAR