BEGIN:VCALENDAR
VERSION:2.0
PRODID:-//European Society for Gynaecological Endoscopy - ECPv6.15.20//NONSGML v1.0//EN
CALSCALE:GREGORIAN
METHOD:PUBLISH
X-WR-CALNAME:European Society for Gynaecological Endoscopy
X-ORIGINAL-URL:https://www.esge.org
X-WR-CALDESC:Events for European Society for Gynaecological Endoscopy
REFRESH-INTERVAL;VALUE=DURATION:PT1H
X-Robots-Tag:noindex
X-PUBLISHED-TTL:PT1H
BEGIN:VTIMEZONE
TZID:Europe/Brussels
BEGIN:DAYLIGHT
TZOFFSETFROM:+0100
TZOFFSETTO:+0200
TZNAME:CEST
DTSTART:20240331T010000
END:DAYLIGHT
BEGIN:STANDARD
TZOFFSETFROM:+0200
TZOFFSETTO:+0100
TZNAME:CET
DTSTART:20241027T010000
END:STANDARD
BEGIN:DAYLIGHT
TZOFFSETFROM:+0100
TZOFFSETTO:+0200
TZNAME:CEST
DTSTART:20250330T010000
END:DAYLIGHT
BEGIN:STANDARD
TZOFFSETFROM:+0200
TZOFFSETTO:+0100
TZNAME:CET
DTSTART:20251026T010000
END:STANDARD
BEGIN:DAYLIGHT
TZOFFSETFROM:+0100
TZOFFSETTO:+0200
TZNAME:CEST
DTSTART:20260329T010000
END:DAYLIGHT
BEGIN:STANDARD
TZOFFSETFROM:+0200
TZOFFSETTO:+0100
TZNAME:CET
DTSTART:20261025T010000
END:STANDARD
END:VTIMEZONE
BEGIN:VEVENT
DTSTART;TZID=Europe/Brussels:20250119T090000
DTEND;TZID=Europe/Brussels:20250119T173000
DTSTAMP:20260421T211648
CREATED:20241122T081627Z
LAST-MODIFIED:20241122T081627Z
UID:8147-1737277200-1737307800@www.esge.org
SUMMARY:The perfect match – sonography and surgery for endometriosis | 19 January 2025
DESCRIPTION:Overview\nJoin us on Sunday 19th January 2025 for our advanced education course on ‘The perfect match – sonography and surgery for endometriosis’ in collaboration with ESGE and EEL. A full day of online learning presented by a panel of international speakers from each partner organisation. Update your knowledge and learn how to understand and apply the learnings to your practice.\n\n\n\n\n\n\n\n\n\n\nThe perfect match – sonography and surgery for endometriosis will be split into 5 different sessions throughout the day\, taking you through the description and classification of endometriosis and adenomyosis\, the anterior compartment\, the posterior and lateral compartment\, as well as futher advanced discussions. \nJoin us in this course to explore the most recent updates in this area with lively discussions and a variety of dynamic lectures. \nThis course is relevant to obstetricians\, sonographers\, and midwives. \nIt will give you the opportunity to learn and advance in sonography and surgery for endometriosis. \n  \n\nLearning Objectives:  \n\nTo understand the role of ultrasound in managing patients with endometriosis\nTo gain knowledge on terms and definitions in describing endometriosis and adenomyosis findings at ultrasound\nTo improve knowledge on ultrasound features of endometriosis in the ovaries\, urinary tract\, bowel\, uterosacral ligaments\, and vagina\nTo learn about ultrasound features of the endometriosis in the sacral roots\nTo gain knowledge on what surgeons need to know before operating on women with ovarian and deep endometriosis in the urinary tract\, bowel\, uterosacral ligaments\, vagina and sacral roots\, and adenomyosis\n\n\nPROGRAMME                                               REGISTER
URL:https://www.esge.org/event-esge/the-perfect-match-sonography-and-surgery-for-endometriosis-19-january-2025/
CATEGORIES:Other Events
ATTACH;FMTTYPE=image/png:https://www.esge.org/wp-content/uploads/2024/11/Untitled-design-20.png
END:VEVENT
END:VCALENDAR