BEGIN:VCALENDAR
VERSION:2.0
PRODID:-//European Society for Gynaecological Endoscopy - ECPv6.15.20//NONSGML v1.0//EN
CALSCALE:GREGORIAN
METHOD:PUBLISH
X-WR-CALNAME:European Society for Gynaecological Endoscopy
X-ORIGINAL-URL:https://www.esge.org
X-WR-CALDESC:Events for European Society for Gynaecological Endoscopy
REFRESH-INTERVAL;VALUE=DURATION:PT1H
X-Robots-Tag:noindex
X-PUBLISHED-TTL:PT1H
BEGIN:VTIMEZONE
TZID:Europe/Brussels
BEGIN:DAYLIGHT
TZOFFSETFROM:+0100
TZOFFSETTO:+0200
TZNAME:CEST
DTSTART:20230326T010000
END:DAYLIGHT
BEGIN:STANDARD
TZOFFSETFROM:+0200
TZOFFSETTO:+0100
TZNAME:CET
DTSTART:20231029T010000
END:STANDARD
BEGIN:DAYLIGHT
TZOFFSETFROM:+0100
TZOFFSETTO:+0200
TZNAME:CEST
DTSTART:20240331T010000
END:DAYLIGHT
BEGIN:STANDARD
TZOFFSETFROM:+0200
TZOFFSETTO:+0100
TZNAME:CET
DTSTART:20241027T010000
END:STANDARD
BEGIN:DAYLIGHT
TZOFFSETFROM:+0100
TZOFFSETTO:+0200
TZNAME:CEST
DTSTART:20250330T010000
END:DAYLIGHT
BEGIN:STANDARD
TZOFFSETFROM:+0200
TZOFFSETTO:+0100
TZNAME:CET
DTSTART:20251026T010000
END:STANDARD
END:VTIMEZONE
BEGIN:VEVENT
DTSTART;TZID=Europe/Brussels:20241118T080000
DTEND;TZID=Europe/Brussels:20241122T170000
DTSTAMP:20260421T205115
CREATED:20231221T091309Z
LAST-MODIFIED:20231221T091309Z
UID:7152-1731916800-1732294800@www.esge.org
SUMMARY:GESEA | Training courses | Basic & Advanced Gynaecological Minimal- Access Surgery | Oldenburg-Germany
DESCRIPTION:To register for Basic & Advanced Gynaecological Minimal- Access Surgery  Traning Course\, please click below: \nREGISTRATION \nPROGRAMME \nFor more information\, please contact:\nRudy-Leon.DeWilde@pius-hospital.de  \nIMPORTANT: \nALL PARTICIPANTS must obtain a GESEA e-Learning Certificate via academy.esge.org \nin the respective level prior to the GESEA Session that they are participating in.
URL:https://www.esge.org/event-esge/training-courses-basic-advanced-gynaecological-minimal-access-surgery-oldenburg-germany/
CATEGORIES:GESEA Workshops
ATTACH;FMTTYPE=image/jpeg:https://www.esge.org/wp-content/uploads/2023/12/German-Diploma_GESEA-Oldenburg-Short-Flyer-2024.pdf.jpg
END:VEVENT
END:VCALENDAR