BEGIN:VCALENDAR
VERSION:2.0
PRODID:-//European Society for Gynaecological Endoscopy - ECPv6.15.20//NONSGML v1.0//EN
CALSCALE:GREGORIAN
METHOD:PUBLISH
X-WR-CALNAME:European Society for Gynaecological Endoscopy
X-ORIGINAL-URL:https://www.esge.org
X-WR-CALDESC:Events for European Society for Gynaecological Endoscopy
REFRESH-INTERVAL;VALUE=DURATION:PT1H
X-Robots-Tag:noindex
X-PUBLISHED-TTL:PT1H
BEGIN:VTIMEZONE
TZID:Europe/Brussels
BEGIN:DAYLIGHT
TZOFFSETFROM:+0100
TZOFFSETTO:+0200
TZNAME:CEST
DTSTART:20230326T010000
END:DAYLIGHT
BEGIN:STANDARD
TZOFFSETFROM:+0200
TZOFFSETTO:+0100
TZNAME:CET
DTSTART:20231029T010000
END:STANDARD
BEGIN:DAYLIGHT
TZOFFSETFROM:+0100
TZOFFSETTO:+0200
TZNAME:CEST
DTSTART:20240331T010000
END:DAYLIGHT
BEGIN:STANDARD
TZOFFSETFROM:+0200
TZOFFSETTO:+0100
TZNAME:CET
DTSTART:20241027T010000
END:STANDARD
BEGIN:DAYLIGHT
TZOFFSETFROM:+0100
TZOFFSETTO:+0200
TZNAME:CEST
DTSTART:20250330T010000
END:DAYLIGHT
BEGIN:STANDARD
TZOFFSETFROM:+0200
TZOFFSETTO:+0100
TZNAME:CET
DTSTART:20251026T010000
END:STANDARD
END:VTIMEZONE
BEGIN:VEVENT
DTSTART;TZID=Europe/Brussels:20240620T080000
DTEND;TZID=Europe/Brussels:20240622T170000
DTSTAMP:20260420T190016
CREATED:20231222T134224Z
LAST-MODIFIED:20231222T134224Z
UID:7267-1718870400-1719075600@www.esge.org
SUMMARY:Winners Meeting | 10th Edition | Porto Heli - Greece | 20th - 22th June 2024
DESCRIPTION:Dear friends and colleagues\, \nIt is a pleasure to inform you that the 10th Edition of the Winners Meeting will take place in AKS Porto Heli Hotel in Greece\, Spain on June 20\, 21\, and 22 2024. \nThe Winners Project was initially founded by Prof. Arnaud Wattiez. It was established in conjunction with his clinical fellows with the concept of creating a platform where high quality endoscopic training and education could be freely accessible to all\, on both a national and international scale. \nThe annual Winners Meeting developed as a natural progression in a bid to create a unique meeting far removed from the classic congress models. The concept was to bring together young people with a common interest in minimal access surgery where ideas could be exchanged and experiences shared whilst at the same time establishing strong foundations for the next generation of endoscopists. \nTo visit the Event Page or Register\, please click below: \nEvent website
URL:https://www.esge.org/event-esge/winners-meeting-10th-edition-porto-heli-greece-20th-22th-june-2024/
CATEGORIES:Congresses
ATTACH;FMTTYPE=image/jpeg:https://www.esge.org/wp-content/uploads/2023/12/Winners-meeting-10th.jpg
END:VEVENT
END:VCALENDAR