BEGIN:VCALENDAR
VERSION:2.0
PRODID:-//European Society for Gynaecological Endoscopy - ECPv6.15.20//NONSGML v1.0//EN
CALSCALE:GREGORIAN
METHOD:PUBLISH
X-WR-CALNAME:European Society for Gynaecological Endoscopy
X-ORIGINAL-URL:https://www.esge.org
X-WR-CALDESC:Events for European Society for Gynaecological Endoscopy
REFRESH-INTERVAL;VALUE=DURATION:PT1H
X-Robots-Tag:noindex
X-PUBLISHED-TTL:PT1H
BEGIN:VTIMEZONE
TZID:Europe/Brussels
BEGIN:DAYLIGHT
TZOFFSETFROM:+0100
TZOFFSETTO:+0200
TZNAME:CEST
DTSTART:20190331T010000
END:DAYLIGHT
BEGIN:STANDARD
TZOFFSETFROM:+0200
TZOFFSETTO:+0100
TZNAME:CET
DTSTART:20191027T010000
END:STANDARD
BEGIN:DAYLIGHT
TZOFFSETFROM:+0100
TZOFFSETTO:+0200
TZNAME:CEST
DTSTART:20200329T010000
END:DAYLIGHT
BEGIN:STANDARD
TZOFFSETFROM:+0200
TZOFFSETTO:+0100
TZNAME:CET
DTSTART:20201025T010000
END:STANDARD
BEGIN:DAYLIGHT
TZOFFSETFROM:+0100
TZOFFSETTO:+0200
TZNAME:CEST
DTSTART:20210328T010000
END:DAYLIGHT
BEGIN:STANDARD
TZOFFSETFROM:+0200
TZOFFSETTO:+0100
TZNAME:CET
DTSTART:20211031T010000
END:STANDARD
BEGIN:DAYLIGHT
TZOFFSETFROM:+0100
TZOFFSETTO:+0200
TZNAME:CEST
DTSTART:20220327T010000
END:DAYLIGHT
BEGIN:STANDARD
TZOFFSETFROM:+0200
TZOFFSETTO:+0100
TZNAME:CET
DTSTART:20221030T010000
END:STANDARD
BEGIN:DAYLIGHT
TZOFFSETFROM:+0100
TZOFFSETTO:+0200
TZNAME:CEST
DTSTART:20230326T010000
END:DAYLIGHT
BEGIN:STANDARD
TZOFFSETFROM:+0200
TZOFFSETTO:+0100
TZNAME:CET
DTSTART:20231029T010000
END:STANDARD
BEGIN:DAYLIGHT
TZOFFSETFROM:+0100
TZOFFSETTO:+0200
TZNAME:CEST
DTSTART:20240331T010000
END:DAYLIGHT
BEGIN:STANDARD
TZOFFSETFROM:+0200
TZOFFSETTO:+0100
TZNAME:CET
DTSTART:20241027T010000
END:STANDARD
END:VTIMEZONE
BEGIN:VEVENT
DTSTART;VALUE=DATE:20230518
DTEND;VALUE=DATE:20230521
DTSTAMP:20260420T185245
CREATED:20230414T100504Z
LAST-MODIFIED:20230414T100504Z
UID:5730-1684368000-1684627199@www.esge.org
SUMMARY:28th EBCOG Congress | Krakow-Poland | 18th - 20th May 2023
DESCRIPTION:Dear friends and colleagues\, \nThe European family of obstetricians and gynaecologists (EBCOG) together with the Polish Society of Gynecologists and Obstetricians will join for an unforgettable meeting in Krakow\, Poland. \nEBCOG together with the special interest societies like\, ESGE and the subspeciality societies like ESHRE have joined the Polish Society who has an enormous and well-respected tradition in our field. The ideal moment and place to come together and exchange our experience\, to present our novel scientific findings and enjoy the famous hands-on sessions of the EBCOG congresses. \n INFORMATION \nREGISTRATION \nABSTRACT SUBMISSON 
URL:https://www.esge.org/event-esge/28th-ebcog-congress-krakow-poland-18th-20th-may-2023/
CATEGORIES:Congresses
ATTACH;FMTTYPE=image/jpeg:https://www.esge.org/wp-content/uploads/2023/04/EBCOG-Congress.jpg
ORGANIZER;CN="EBCOG":MAILTO:centraloffice@ebcog.eu
END:VEVENT
BEGIN:VEVENT
DTSTART;VALUE=DATE:20230426
DTEND;VALUE=DATE:20230429
DTSTAMP:20260420T185245
CREATED:20230217T074248Z
LAST-MODIFIED:20230217T074248Z
UID:5500-1682467200-1682726399@www.esge.org
SUMMARY:Global Congress on Hysteroscopy | GCH | Sitges - Barcelona | 26th - 28th April 2023
DESCRIPTION:Dear friends and colleagues\, \nThe Global Community of Hysteroscopy is proud to invite you to \nthe 4th Global Congress on Hysteroscopy (GCH) that will take place in Sitges-Barcelona\, Spain from April 26th to April 28th\, 2023. \nAttend this event and become an active part of this big GCH family. \nCongress Co-Chairs: \nSerigio Haimovich        Luis Alonso Pacheco       Attilio Di Spiezio Sardo \n  \nPreliminary Brochure \nCONGRESS Website \nABSTRACT SUBMISSION
URL:https://www.esge.org/event-esge/global-congress-on-hystreroscopy-gch-sitges-barcelona-26-28-april-2023/
CATEGORIES:Congresses
ATTACH;FMTTYPE=image/png:https://www.esge.org/wp-content/uploads/2023/02/GCH.png
END:VEVENT
BEGIN:VEVENT
DTSTART;VALUE=DATE:20230420
DTEND;VALUE=DATE:20230422
DTSTAMP:20260420T185245
CREATED:20230313T160645Z
LAST-MODIFIED:20230313T160645Z
UID:5640-1681948800-1682121599@www.esge.org
SUMMARY:BSGE ASM 2023 | MANCHESTER\, UK
DESCRIPTION:BSGE Annual Scientific Meeting 2023- Manchester\n\n\nStart Date 20/04/2023 \nEnd Date 21/04/2023 \nWhere Manchester Central\, Manchester \nWebsite https://www.bsge.org.uk/asm23/ \nEmail bsge@rcog.org.uk
URL:https://www.esge.org/event-esge/bsge-asm-2023-manchester-uk/
LOCATION:British Society for Gynaecological Endoscopy (BSGE)
CATEGORIES:Congresses
ATTACH;FMTTYPE=image/png:https://www.esge.org/wp-content/uploads/2023/03/ASM23-Save-the-date-Holding-Slide2.png
END:VEVENT
BEGIN:VEVENT
DTSTART;TZID=Europe/Brussels:20221002T080000
DTEND;TZID=Europe/Brussels:20221005T170000
DTSTAMP:20260420T185245
CREATED:20211026T132342Z
LAST-MODIFIED:20211026T132342Z
UID:2867-1664697600-1664989200@www.esge.org
SUMMARY:ESGE 31st Annual Congress | 2nd - 5th October 2022\, Lisbon\, Portugal
DESCRIPTION:
URL:https://www.esge.org/event-esge/esge-31st-annual-congress-2nd-5th-october-2022-lisbon-portugal/
CATEGORIES:Congresses
ATTACH;FMTTYPE=image/jpeg:https://www.esge.org/wp-content/uploads/2021/10/Lisbon-Promotion-jpeg.jpg
ORGANIZER;CN="ESGE":MAILTO:centraloffice@esge.org
END:VEVENT
BEGIN:VEVENT
DTSTART;VALUE=DATE:20220930
DTEND;VALUE=DATE:20221003
DTSTAMP:20260420T185245
CREATED:20220812T133543Z
LAST-MODIFIED:20220812T133543Z
UID:3936-1664496000-1664755199@www.esge.org
SUMMARY:22nd APAGE ANNUAL CONGRESS 2022\, TAIPEI\, TAIWAN | 30th September - 2nd October | Empower Gynaecologist in Endoscopy
DESCRIPTION:Dear friends and colleagues\, \nThe APAGE with great pleasure wishes to invite you to attend its 22nd Annual Congress \nin Taipei\, Taiwan \nfrom 30th September till 2nd October 2022. \nFor more information and registration please click below: \n REGISTRATION&INFORMATION
URL:https://www.esge.org/event-esge/22nd-apage-annual-congress-2022-taipei-taiwan-30th-september-2nd-october-empower-gynaecologist-in-endoscopy/
CATEGORIES:Congresses
ATTACH;FMTTYPE=image/png:https://www.esge.org/wp-content/uploads/2022/08/apage-banner-e1660311297460.png
END:VEVENT
BEGIN:VEVENT
DTSTART;TZID=Europe/Brussels:20220921T090000
DTEND;TZID=Europe/Brussels:20220923T190000
DTSTAMP:20260420T185245
CREATED:20220711T131141Z
LAST-MODIFIED:20220711T131141Z
UID:3894-1663750800-1663959600@www.esge.org
SUMMARY:SCGP 19th Annual Congress | 21st - 23rd September 2022 | Rennes\, France
DESCRIPTION:Dear friends and colleagues\, \nThe SCGP with great pleasure wishes to invite you to attend its 19th Annual Congress \nin Rennes\, France \nfrom 21st till 23rd September 2022. \nFor more information and registration please click below: \nPROGRAMME  REGISTRATION\nTEASER 2022\nINTERVIEW: Women’s breakfast session
URL:https://www.esge.org/event-esge/scgp-19th-annual-congress-21st-23rd-september-2022-rennes-france/
CATEGORIES:Congresses
ATTACH;FMTTYPE=image/jpeg:https://www.esge.org/wp-content/uploads/2022/07/SCGP-2022-DIA-1.jpg
END:VEVENT
BEGIN:VEVENT
DTSTART;TZID=Europe/Brussels:20220915T080000
DTEND;TZID=Europe/Brussels:20220917T170000
DTSTAMP:20260420T185245
CREATED:20220609T074016Z
LAST-MODIFIED:20220609T074016Z
UID:3689-1663228800-1663434000@www.esge.org
SUMMARY:The MIS Academy  |  Endometriosis Consensus Strasbourg 2022
DESCRIPTION:Endometriosis Consensus Strasbourg 2022 \nThe MIS Academy \nTo find out more about  The Scientific  Programme\, The Agenda\, The Panel of Experts\, etc.\, please click below: \nENDO Consensus Brochure\n 
URL:https://www.esge.org/event-esge/the-mis-academy-endometriosis-consensus-strasbourg-2022/
CATEGORIES:Congresses
ATTACH;FMTTYPE=image/jpeg:https://www.esge.org/wp-content/uploads/2022/06/Poster.jpeg
END:VEVENT
BEGIN:VEVENT
DTSTART;TZID=Europe/Brussels:20220713T150000
DTEND;TZID=Europe/Brussels:20220714T200000
DTSTAMP:20260420T185245
CREATED:20220711T123249Z
LAST-MODIFIED:20220711T123249Z
UID:3780-1657724400-1657828800@www.esge.org
SUMMARY:THE PSGE ANNUAL CONGRESS AND 18th ANNIVERSARY CELEBRATION | EXPANDING HORIZONS IN MIGS
DESCRIPTION:Dear friends and colleagues\,\nThe Philippine Society for Gynecologic Endoscopy with great pleasure wishes to invite you to attend the Annual Congress and 18th Anniversary celebration of the Society.\nThis will be an online event on July 13-14\,  2022 and starts at 3pm.\nRegistration is free of charge.\nFor more information please visit the PSGE official website at:\n https://www.psgecongress2022.com.\nPROGRAMME                            PROMOTION VIDEO
URL:https://www.esge.org/event-esge/the-psge-annual-congress-and-18th-anniversary-celebration/
LOCATION:PSGE\, Philippines
CATEGORIES:Congresses,Other Events
ATTACH;FMTTYPE=image/jpeg:https://www.esge.org/wp-content/uploads/2022/07/PSGE_AC_2022_page-0001.jpg
END:VEVENT
BEGIN:VEVENT
DTSTART;TZID=Europe/Brussels:20220620T080000
DTEND;TZID=Europe/Brussels:20220622T170000
DTSTAMP:20260420T185245
CREATED:20211203T081049Z
LAST-MODIFIED:20211203T081049Z
UID:3124-1655712000-1655917200@www.esge.org
SUMMARY:16th SEGi NATIONAL CONGRESS "Precision Surgery between Technology and Biology"
DESCRIPTION:
URL:https://www.esge.org/event-esge/16th-segi-national-congress-precision-surgery-between-technology-and-biology/
LOCATION:SEGI\, Via Flaminia Vecchia 508\, Rome\, 00191\, Italy
CATEGORIES:Congresses
ATTACH;FMTTYPE=image/jpeg:https://www.esge.org/wp-content/uploads/2021/12/16-congresso-nazionale-segi.jpg
END:VEVENT
BEGIN:VEVENT
DTSTART;TZID=Europe/Brussels:20220421T080000
DTEND;TZID=Europe/Brussels:20220422T173000
DTSTAMP:20260420T185245
CREATED:20220117T091054Z
LAST-MODIFIED:20220117T091054Z
UID:3281-1650528000-1650648600@www.esge.org
SUMMARY:BSGE ASM 22
DESCRIPTION:Registration is now open for the Birmingham-Worcester BSGE Annual Scientific Meeting which will be held at the International Convention Centre in Birmingham on 21st and 22nd April 2022 \nThe meeting is themed ‘Standing Tall after the Fall’ – always learning\, improving safety and enhancing outcomes. We acknowledge the challenges faced over the last few years and this provides an opportunity for us to come together at a face-to-face meeting to learn\, share experiences and socialise. There is the added option for delegates to attend virtually to access live streaming of the conference if they are unable to attend in person. \nLocation: The ICC\, Birmingham \nWebsite: https://www.bsge.org.uk/asm22/
URL:https://www.esge.org/event-esge/bsge-asm-22/
LOCATION:British Society for Gynaecological Endoscopy (BSGE)
CATEGORIES:Congresses
ATTACH;FMTTYPE=image/jpeg:https://www.esge.org/wp-content/uploads/2022/01/Schermafbeelding-2022-01-17-100851.jpg
END:VEVENT
BEGIN:VEVENT
DTSTART;TZID=Europe/Brussels:20220403T080000
DTEND;TZID=Europe/Brussels:20220406T170000
DTSTAMP:20260420T185245
CREATED:20211122T122041Z
LAST-MODIFIED:20211122T122041Z
UID:3003-1648972800-1649264400@www.esge.org
SUMMARY:24th IFFA World Congress | Athens\, Greece
DESCRIPTION:
URL:https://www.esge.org/event-esge/24th-iffa-world-congress-athens-greece/
LOCATION:Megaron\, Athens International Conference Centre\, Vas. Sofias Ave. & Kokkali str.\, Athens\, 115 21\, Greece
CATEGORIES:Congresses
ATTACH;FMTTYPE=image/jpeg:https://www.esge.org/wp-content/uploads/2021/11/20210211_100504_23026.jpg
ORGANIZER;CN="IFFS":MAILTO:secretariat@iffsreproduction.org
END:VEVENT
BEGIN:VEVENT
DTSTART;TZID=Europe/Brussels:20220224T080000
DTEND;TZID=Europe/Brussels:20220226T170000
DTSTAMP:20260420T185245
CREATED:20211217T105104Z
LAST-MODIFIED:20211217T105104Z
UID:3248-1645689600-1645894800@www.esge.org
SUMMARY:ENDO DUBAI 2022 – Endo Meets Expo
DESCRIPTION:Go to ENDO DUBAI website
URL:https://www.esge.org/event-esge/endo-dubai-2022/
LOCATION:MIS Academy\, Office 904\, XL Tower Marasi Drive\, Business Bay\, Dubai\, Dubai\, United Arab Emirates
CATEGORIES:Congresses,GESEA Certification
ATTACH;FMTTYPE=image/jpeg:https://www.esge.org/wp-content/uploads/2021/01/Invitation-Banner.jpeg
END:VEVENT
BEGIN:VEVENT
DTSTART;TZID=Europe/Brussels:20211114T080000
DTEND;TZID=Europe/Brussels:20211118T170000
DTSTAMP:20260420T185245
CREATED:20210112T153441Z
LAST-MODIFIED:20210112T153441Z
UID:686-1636876800-1637254800@www.esge.org
SUMMARY:50th AAGL Annual Global Congress on MIGS
DESCRIPTION:
URL:https://www.esge.org/event-esge/50th-aagl-annual-global-congress-on-migs/
LOCATION:Elementor Header #609
CATEGORIES:Congresses
END:VEVENT
BEGIN:VEVENT
DTSTART;TZID=Europe/Brussels:20211105T080000
DTEND;TZID=Europe/Brussels:20211106T170000
DTSTAMP:20260420T185245
CREATED:20210903T075949Z
LAST-MODIFIED:20210903T075949Z
UID:2738-1636099200-1636218000@www.esge.org
SUMMARY:Winners Meeting 2021 - Leuven\, Belgium
DESCRIPTION:Winners Meeting 8th Edition “Being together again” \n \nThe annual winners meeting developed as a natural progression in a bid to create a unique meeting far removed from the classic congress models. The concept was to bring together young people with a common interest in minimal access surgery where ideas could be exchanged and experiences shared whilst at the same time establishing strong foundations for the next generation of endoscopists. \nGO TO PROGRAMME 
URL:https://www.esge.org/event-esge/winners-meeting-2021-leuven-belgium/
LOCATION:Provinciehuis\, Leuven\, Belgium\, Provincieplein 1\, Leuven\, Vlaams-Brabant\, 3010\, Belgium
CATEGORIES:Congresses,GESEA Certification
END:VEVENT
BEGIN:VEVENT
DTSTART;TZID=Europe/Brussels:20211004T080000
DTEND;TZID=Europe/Brussels:20211005T170000
DTSTAMP:20260420T185245
CREATED:20210422T124815Z
LAST-MODIFIED:20210422T124815Z
UID:2550-1633334400-1633453200@www.esge.org
SUMMARY:ESGE 30th Annual Congress | GESEA Certification Level 1 + Level 2
DESCRIPTION:GESEA Certification Level 1 + Level 2 during the ESGE 30th Annual Congress 2021\, Rome – Italy \nCertification Day 1: Monday 4th October 2021 (REGISTRATION CLOSED) \nCertification Day 2: Tuesday 5th October 2021 (REGISTRATION CLOSED) \n\nRegister now
URL:https://www.esge.org/event-esge/esge-30th-annual-congress-gesea-certification-level-1-level-2/
LOCATION:ESGE
CATEGORIES:Congresses,GESEA Certification
ORGANIZER;CN="ESGE":MAILTO:centraloffice@esge.org
END:VEVENT
BEGIN:VEVENT
DTSTART;TZID=Europe/Brussels:20211003T080000
DTEND;TZID=Europe/Brussels:20211005T170000
DTSTAMP:20260420T185245
CREATED:20210422T083310Z
LAST-MODIFIED:20210422T083310Z
UID:2545-1633248000-1633453200@www.esge.org
SUMMARY:ESGE 30th Annual Congress\, Rome\, Italy (Onsite + Virtual)
DESCRIPTION:It is our great pleasure and honour to welcome you to Rome on the occasion of the ESGE 30th Annual Congress. \nThis year\, the Congress President\, Professor Enrico Vizza\, our Honorary Congress President Dr. Rudi Campo and ESGE President\, Professor Giovanni Scambia and the Scientific Chairs\, are proud to host you in Italy and in the beautiful and timeless city of Rome. \nDue to the ongoing COVID-19 pandemic\, we are designing the Congress with the aim to reach all participants\, by hosting a hybrid event (onsite and virtual) over three days\, Sunday 3rd to Tuesday 5th October 2021. \nThe theme of this Congress\, ‘Per Aspera ad astra: through hardship reaching the stars’ is especially appropriate in these current times. Believing in something\, defining ambitious projects and working hard to realise them\, are all legitimate and important purposes (even opportune)\, because they build their foundations in hope. The hope that we have not lost in the difficult months we have faced and that guides us towards rebirth and innovations. This has been the driving force for ESGE scientific activities and adds new purpose for our patient-centred approach. \nThe Scientific Committee has developed a programme to offer the participants high-quality\, evidence-based topics from the contemporary developments in various disciplines of Gynaecological Endoscopy. \nFurthermore\, live surgical sessions and GESEA certification exams will be among the innovations of the scientific programme\, which aim to improve the necessary skills to ensure better outcomes of our patients. \nRoma\, historic city and capital of the country of Italy. Roma is the Eternal City and is also called “Caput Mundi” (Capital of the World)\, remaining today a political capital\, a religious centre\, and a memorial to the creative imagination of the past. \nWe are looking forward to welcoming you and returning to sharing great learning experiences together\, “E poi uscimmo a riveder le stelle” (then we went out to see the stars again)\ncit. Dante Alighieri\, L’Inferno.
URL:https://www.esge.org/event-esge/esge-30th-annual-congress-rome-italy-onsite-virtual/
LOCATION:ESGE
CATEGORIES:Congresses
ORGANIZER;CN="ESGE":MAILTO:centraloffice@esge.org
END:VEVENT
BEGIN:VEVENT
DTSTART;VALUE=DATE:20211001
DTEND;VALUE=DATE:20211002
DTSTAMP:20260420T185245
CREATED:20210112T154126Z
LAST-MODIFIED:20210112T154126Z
UID:10500-1633046400-1633132799@www.esge.org
SUMMARY:VVOG National Congress - Obstetrics in the new roaring twenties
DESCRIPTION:Meer informatie: https://www.vvog.be/nationaal_congres_2021 \nVragen? info@vvog.be \n 
URL:https://www.esge.org/event-esge/vvog-national-congress/
LOCATION:Dolce La Hulpe Brussels\, Brusselse steenweg 135\, Terhulpen\, 1310
CATEGORIES:Congresses
END:VEVENT
BEGIN:VEVENT
DTSTART;TZID=Europe/Brussels:20210923T080000
DTEND;TZID=Europe/Brussels:20210926T170000
DTSTAMP:20260420T185245
CREATED:20210112T153145Z
LAST-MODIFIED:20210112T153145Z
UID:10498-1632384000-1632675600@www.esge.org
SUMMARY:17th AAGL International Congress on Minimally Invasive Gynecologic Surgery In affiliation with the Indian Association of Gynecologic Endoscopy
DESCRIPTION:
URL:https://www.esge.org/event-esge/17th-aagl-international-congress-on-minimally-invasive-gynecologic-surgery-in-affiliation-with-the-indian-association-of-gynecologic-endoscopy/
CATEGORIES:Congresses
END:VEVENT
BEGIN:VEVENT
DTSTART;TZID=Europe/Brussels:20210922T080000
DTEND;TZID=Europe/Brussels:20210924T170000
DTSTAMP:20260420T185245
CREATED:20210903T105806Z
LAST-MODIFIED:20210903T105806Z
UID:2801-1632297600-1632502800@www.esge.org
SUMMARY:ESCP's 16th Annual Scientific Conference | ESCP 2021 Virtual
DESCRIPTION:More information to be found here \n 
URL:https://www.esge.org/event-esge/escps-16th-annual-scientific-conference-escp-2021-virtual/
LOCATION:European Society of Coloproctology (ESCP)\, Building 1000\, Western Road\, Portsmouth\, PO6 3EZ\, United Kingdom
CATEGORIES:Congresses
ATTACH;FMTTYPE=image/jpeg:https://www.esge.org/wp-content/uploads/2021/09/ESCP.jpg
ORGANIZER;CN="ESCP":MAILTO:https://www.escp.eu.com/contact-us
END:VEVENT
BEGIN:VEVENT
DTSTART;TZID=Europe/Brussels:20210922T080000
DTEND;TZID=Europe/Brussels:20210924T170000
DTSTAMP:20260420T185245
CREATED:20210112T140136Z
LAST-MODIFIED:20210112T140136Z
UID:10495-1632297600-1632502800@www.esge.org
SUMMARY:SCGP Annual Congress 18es Journées de Chirurgie Gynécologique & Pelvienne
DESCRIPTION:
URL:https://www.esge.org/event-esge/scgp-annual-congress-18es-journees-de-chirurgie-gynecologique-pelvienne/
LOCATION:Elementor Header #609
CATEGORIES:Congresses
END:VEVENT
BEGIN:VEVENT
DTSTART;TZID=Europe/Brussels:20210714T080000
DTEND;TZID=Europe/Brussels:20210715T170000
DTSTAMP:20260420T185245
CREATED:20210629T133144Z
LAST-MODIFIED:20210629T133144Z
UID:2664-1626249600-1626368400@www.esge.org
SUMMARY:PSGE Annual Congress and 17th Anniversary Celebration
DESCRIPTION:  \nMore information \nhttps://www.psgecongress2021.com/
URL:https://www.esge.org/event-esge/psge-annual-congress-and-17th-anniversary-celebration/
LOCATION:PSGE\, Philippines
CATEGORIES:Congresses
END:VEVENT
BEGIN:VEVENT
DTSTART;TZID=Europe/Brussels:20210627T080000
DTEND;TZID=Europe/Brussels:20210630T170000
DTSTAMP:20260420T185245
CREATED:20210112T153938Z
LAST-MODIFIED:20210112T153938Z
UID:10499-1624780800-1625072400@www.esge.org
SUMMARY:ESHRE Virtual 37th Annual Meeting
DESCRIPTION:
URL:https://www.esge.org/event-esge/eshre-virtual-37th-annual-meeting/
CATEGORIES:Congresses
END:VEVENT
BEGIN:VEVENT
DTSTART;TZID=Europe/Brussels:20210422T080000
DTEND;TZID=Europe/Brussels:20210424T170000
DTSTAMP:20260420T185245
CREATED:20210112T134700Z
LAST-MODIFIED:20210112T134700Z
UID:10494-1619078400-1619283600@www.esge.org
SUMMARY:AGO-Symposium – State of the Art: Kongress Gynäkologische Onkologie
DESCRIPTION:More information \nProgramme
URL:https://www.esge.org/event-esge/ago-symposium-state-of-the-art-kongress-gynakologische-onkologie/
LOCATION:Elementor Header #609
CATEGORIES:Congresses
END:VEVENT
BEGIN:VEVENT
DTSTART;TZID=Europe/Brussels:20210420T080000
DTEND;TZID=Europe/Brussels:20210422T170000
DTSTAMP:20260420T185245
CREATED:20210112T143846Z
LAST-MODIFIED:20210112T143846Z
UID:10497-1618905600-1619110800@www.esge.org
SUMMARY:Congress of the Endoscopy Section of the Spanish Society of Gynecology and Obstetrics
DESCRIPTION:https://sego.es/
URL:https://www.esge.org/event-esge/congress-of-the-endoscopy-section-of-the-spanish-society-of-gynecology-and-obstetrics/
CATEGORIES:Congresses
END:VEVENT
BEGIN:VEVENT
DTSTART;TZID=Europe/Brussels:20210325T080000
DTEND;TZID=Europe/Brussels:20210327T170000
DTSTAMP:20260420T185245
CREATED:20210112T141406Z
LAST-MODIFIED:20210112T141406Z
UID:10496-1616659200-1616864400@www.esge.org
SUMMARY:24. Kongress der AGE
DESCRIPTION:Info and programme
URL:https://www.esge.org/event-esge/24-kongress-der-age/
CATEGORIES:Congresses
END:VEVENT
BEGIN:VEVENT
DTSTART;TZID=Europe/Brussels:20210320T080000
DTEND;TZID=Europe/Brussels:20210321T170000
DTSTAMP:20260420T185245
CREATED:20210211T122808Z
LAST-MODIFIED:20210211T122808Z
UID:823-1616227200-1616346000@www.esge.org
SUMMARY:ISGE Virtual Endo 24
DESCRIPTION:More information \nGo to official website
URL:https://www.esge.org/event-esge/isge-virtual-endo-24/
LOCATION:The International Society for Gynecologic Endoscopy (ISGE)
CATEGORIES:Congresses
ORGANIZER;CN="ISGE":MAILTO:paula.simons@isge.org
END:VEVENT
BEGIN:VEVENT
DTSTART;VALUE=DATE:20210305
DTEND;VALUE=DATE:20210306
DTSTAMP:20260420T185245
CREATED:20210118T123649Z
LAST-MODIFIED:20210118T123649Z
UID:10501-1614902400-1614988799@www.esge.org
SUMMARY:45th BSRM Scientific Meeting
DESCRIPTION:Go to programme 
URL:https://www.esge.org/event-esge/45th-bsrm-scientific-meeting/
CATEGORIES:Congresses
END:VEVENT
BEGIN:VEVENT
DTSTART;VALUE=DATE:20210302
DTEND;VALUE=DATE:20210306
DTSTAMP:20260420T185245
CREATED:20210112T115656Z
LAST-MODIFIED:20210112T115656Z
UID:10493-1614643200-1614988799@www.esge.org
SUMMARY:BSGE Virtual ASM 2021
DESCRIPTION:Virtual BSGE ASM 2021\n2nd – 5th March\n‘Embracing Change\, Maintaining Excellence’\n 
URL:https://www.esge.org/event-esge/bsge-virtual-asm-2021/
CATEGORIES:Congresses
END:VEVENT
BEGIN:VEVENT
DTSTART;VALUE=DATE:20201112
DTEND;VALUE=DATE:20201114
DTSTAMP:20260420T185245
CREATED:20200924T073921Z
LAST-MODIFIED:20200924T073921Z
UID:201-1605139200-1605311999@www.esge.org
SUMMARY:HIP
DESCRIPTION:HYSTT
URL:https://www.esge.org/event-esge/hip/
CATEGORIES:Congresses
END:VEVENT
BEGIN:VEVENT
DTSTART;VALUE=DATE:20201104
DTEND;VALUE=DATE:20201107
DTSTAMP:20260420T185245
CREATED:20200924T073819Z
LAST-MODIFIED:20200924T073819Z
UID:199-1604448000-1604707199@www.esge.org
SUMMARY:LIPS
DESCRIPTION:LASTT/SUTT
URL:https://www.esge.org/event-esge/lips/
CATEGORIES:Congresses
END:VEVENT
END:VCALENDAR