BEGIN:VCALENDAR
VERSION:2.0
PRODID:-//European Society for Gynaecological Endoscopy - ECPv6.15.20//NONSGML v1.0//EN
CALSCALE:GREGORIAN
METHOD:PUBLISH
X-WR-CALNAME:European Society for Gynaecological Endoscopy
X-ORIGINAL-URL:https://www.esge.org
X-WR-CALDESC:Events for European Society for Gynaecological Endoscopy
REFRESH-INTERVAL;VALUE=DURATION:PT1H
X-Robots-Tag:noindex
X-PUBLISHED-TTL:PT1H
BEGIN:VTIMEZONE
TZID:Europe/Brussels
BEGIN:DAYLIGHT
TZOFFSETFROM:+0100
TZOFFSETTO:+0200
TZNAME:CEST
DTSTART:20210328T010000
END:DAYLIGHT
BEGIN:STANDARD
TZOFFSETFROM:+0200
TZOFFSETTO:+0100
TZNAME:CET
DTSTART:20211031T010000
END:STANDARD
BEGIN:DAYLIGHT
TZOFFSETFROM:+0100
TZOFFSETTO:+0200
TZNAME:CEST
DTSTART:20220327T010000
END:DAYLIGHT
BEGIN:STANDARD
TZOFFSETFROM:+0200
TZOFFSETTO:+0100
TZNAME:CET
DTSTART:20221030T010000
END:STANDARD
BEGIN:DAYLIGHT
TZOFFSETFROM:+0100
TZOFFSETTO:+0200
TZNAME:CEST
DTSTART:20230326T010000
END:DAYLIGHT
BEGIN:STANDARD
TZOFFSETFROM:+0200
TZOFFSETTO:+0100
TZNAME:CET
DTSTART:20231029T010000
END:STANDARD
END:VTIMEZONE
BEGIN:VEVENT
DTSTART;TZID=Europe/Brussels:20220921T080000
DTEND;TZID=Europe/Brussels:20220921T170000
DTSTAMP:20260422T121312
CREATED:20211216T114948Z
LAST-MODIFIED:20211216T114948Z
UID:3227-1663747200-1663779600@www.esge.org
SUMMARY:GESEA Certification Level 2 Turin – Italy
DESCRIPTION:GESEA CERT 2 \nGESEA Diploma Centre Turin
URL:https://www.esge.org/event-esge/gesea-certification-level-2-turin-italy-2/
CATEGORIES:GESEA Certification
END:VEVENT
BEGIN:VEVENT
DTSTART;TZID=Europe/Brussels:20220921T080000
DTEND;TZID=Europe/Brussels:20220921T170000
DTSTAMP:20260422T121312
CREATED:20211122T142310Z
LAST-MODIFIED:20211122T142310Z
UID:3063-1663747200-1663779600@www.esge.org
SUMMARY:GESEA Certification Level 2 Rome – Italy
DESCRIPTION:GESEA CERT 2 \nGESEA Diploma Centre Rome \nTo Register please contact the contact person: Mrs Francesca Ortenzi \nEmail: francesca.ortenzi@molipharma.com
URL:https://www.esge.org/event-esge/gesea-certification-level-2-rome-3/
CATEGORIES:GESEA Certification
END:VEVENT
BEGIN:VEVENT
DTSTART;TZID=Europe/Brussels:20220917T080000
DTEND;TZID=Europe/Brussels:20220917T170000
DTSTAMP:20260422T121312
CREATED:20211122T134721Z
LAST-MODIFIED:20211122T134721Z
UID:3032-1663401600-1663434000@www.esge.org
SUMMARY:GESEA Certification Level 1 + 2 Lisbon – Portugal
DESCRIPTION:GESEA CERT 1 + 2 \nGESEA Diploma Centre Lisbon
URL:https://www.esge.org/event-esge/gesea-certification-level-1-lisbon-9/
CATEGORIES:GESEA Certification
END:VEVENT
BEGIN:VEVENT
DTSTART;TZID=Europe/Brussels:20220916T080000
DTEND;TZID=Europe/Brussels:20220916T170000
DTSTAMP:20260422T121312
CREATED:20220214T123723Z
LAST-MODIFIED:20220214T123723Z
UID:3333-1663315200-1663347600@www.esge.org
SUMMARY:GESEA Certification Level 1 Clermont-Ferrand – France
DESCRIPTION:GESEA Certification Level 1 > Diploma in Gyn – Morrocan\, Tunesian surgeons \nGESEA Diploma Centre CICE
URL:https://www.esge.org/event-esge/gesea-certification-level-1-clermont-ferrand-france-4/
LOCATION:Elementor Header #82
CATEGORIES:GESEA Certification
END:VEVENT
BEGIN:VEVENT
DTSTART;TZID=Europe/Brussels:20220916T080000
DTEND;TZID=Europe/Brussels:20220916T170000
DTSTAMP:20260422T121312
CREATED:20220214T103359Z
LAST-MODIFIED:20220214T103359Z
UID:3315-1663315200-1663347600@www.esge.org
SUMMARY:GESEA Certification Level 1 + 2 Liege – Belgium
DESCRIPTION:GESEA Certification Level 1 + 2 \nGESEA Diploma Centre Liege
URL:https://www.esge.org/event-esge/gesea-certification-level-1-2-liege-belgium-2/
LOCATION:Université de Liege\, Belgium
CATEGORIES:GESEA Certification
END:VEVENT
BEGIN:VEVENT
DTSTART;TZID=Europe/Brussels:20220916T080000
DTEND;TZID=Europe/Brussels:20220916T170000
DTSTAMP:20260422T121312
CREATED:20211130T094831Z
LAST-MODIFIED:20211130T094831Z
UID:3087-1663315200-1663347600@www.esge.org
SUMMARY:GESEA Certification Level 1 Naples – Italy
DESCRIPTION:GESEA CERT 1 \nGESEA Diploma Centre Naples
URL:https://www.esge.org/event-esge/gesea-certification-level-1-naples-italy-3/
LOCATION:Elementor Header #82
CATEGORIES:GESEA Certification
END:VEVENT
BEGIN:VEVENT
DTSTART;TZID=Europe/Brussels:20220915T093000
DTEND;TZID=Europe/Brussels:20220917T193000
DTSTAMP:20260422T121312
CREATED:20220603T091341Z
LAST-MODIFIED:20220603T091341Z
UID:3637-1663234200-1663443000@www.esge.org
SUMMARY:Advanced Laparoscopic Suturing Course | GESEA Level 1 & Level 2 Certification Lisbon
DESCRIPTION:GESEA Diploma Centre Lisbon\nAdvanced Laparoscopic Suturing Course – 15 Set\, 08:30 → 16 Set\, 18:00 \nREGISTRATION \nGESEA Level 1 Certification – 17 Set\, 08:30 → 17 Set\, 13:00 \nREGISTRATION \nGESEA Level 2 Certification – 17 Set\, 14:00 → 17 Set\, 18:00 \nREGISTRATION
URL:https://www.esge.org/event-esge/advanced-laparoscopic-suturing-course-gesea-level-1-level-2-certification-lisbon-2/
CATEGORIES:GESEA Certification,Other Events
ATTACH;FMTTYPE=image/jpeg:https://www.esge.org/wp-content/uploads/2022/06/Banner_Insta_AdvanLaparoSutur-2022_1aProva.jpg
END:VEVENT
BEGIN:VEVENT
DTSTART;TZID=Europe/Brussels:20220915T083000
DTEND;TZID=Europe/Brussels:20220917T180000
DTSTAMP:20260422T121312
CREATED:20220628T124158Z
LAST-MODIFIED:20220628T124158Z
UID:3738-1663230600-1663437600@www.esge.org
SUMMARY:Advanced Laparoscopic  Suturing Course | GESEA Level 1 & Level 2 Certifications
DESCRIPTION:PROGRAMME\n  \nREGISTRATION\n 
URL:https://www.esge.org/event-esge/advanced-laparoscopic-suturing-course-gesea-level-1-level-2-certifications/
CATEGORIES:GESEA Certification
ATTACH;FMTTYPE=image/jpeg:https://www.esge.org/wp-content/uploads/2022/06/Banner_Insta_AdvanLaparoSutur-2022_3aProva.jpg
END:VEVENT
BEGIN:VEVENT
DTSTART;TZID=Europe/Brussels:20220708T080000
DTEND;TZID=Europe/Brussels:20220708T170000
DTSTAMP:20260422T121312
CREATED:20220214T123516Z
LAST-MODIFIED:20220214T123516Z
UID:3331-1657267200-1657299600@www.esge.org
SUMMARY:GESEA Certification Level 1 Clermont-Ferrand – France
DESCRIPTION:GESEA Certification Level 1 \nGESEA Diploma Centre CICE
URL:https://www.esge.org/event-esge/gesea-certification-level-1-clermont-ferrand-france-3/
LOCATION:Elementor Header #82
CATEGORIES:GESEA Certification
END:VEVENT
BEGIN:VEVENT
DTSTART;TZID=Europe/Brussels:20220708T080000
DTEND;TZID=Europe/Brussels:20220708T170000
DTSTAMP:20260422T121312
CREATED:20211130T095344Z
LAST-MODIFIED:20211130T095344Z
UID:3095-1657267200-1657299600@www.esge.org
SUMMARY:GESEA Certification Level 2 Naples – Italy
DESCRIPTION:GESEA CERT 2 \nGESEA Diploma Centre Naples
URL:https://www.esge.org/event-esge/gesea-certification-level-2-naples-italy-2/
LOCATION:Elementor Header #82
CATEGORIES:GESEA Certification
END:VEVENT
BEGIN:VEVENT
DTSTART;TZID=Europe/Brussels:20220708T080000
DTEND;TZID=Europe/Brussels:20220708T170000
DTSTAMP:20260422T121312
CREATED:20211122T134109Z
LAST-MODIFIED:20211122T134109Z
UID:3028-1657267200-1657299600@www.esge.org
SUMMARY:GESEA Certification Level 1 Lisbon – Portugal
DESCRIPTION:GESEA CERT 1 \nGESEA Diploma Centre Lisbon \nRegister here directly
URL:https://www.esge.org/event-esge/gesea-certification-level-1-lisbon-8/
CATEGORIES:GESEA Certification
ATTACH;FMTTYPE=image/jpeg:https://www.esge.org/wp-content/uploads/2021/11/Banner_Site_GESEA-2022_1aSem_1aProva.jpg
END:VEVENT
BEGIN:VEVENT
DTSTART;TZID=Europe/Brussels:20220706T080000
DTEND;TZID=Europe/Brussels:20220706T170000
DTSTAMP:20260422T121312
CREATED:20211216T112335Z
LAST-MODIFIED:20211216T112335Z
UID:3218-1657094400-1657126800@www.esge.org
SUMMARY:GESEA Certification Level 1 Turin – Italy
DESCRIPTION:GESEA CERT 1 \nGESEA Diploma Centre Turin
URL:https://www.esge.org/event-esge/gesea-certification-level-1-turin-italy-5/
CATEGORIES:GESEA Certification
END:VEVENT
BEGIN:VEVENT
DTSTART;TZID=Europe/Brussels:20220706T080000
DTEND;TZID=Europe/Brussels:20220706T170000
DTSTAMP:20260422T121312
CREATED:20211122T141605Z
LAST-MODIFIED:20211122T141605Z
UID:3054-1657094400-1657126800@www.esge.org
SUMMARY:GESEA Certification Level 1 Rome – Italy
DESCRIPTION:GESEA CERT 1 \nGESEA Diploma Centre Rome
URL:https://www.esge.org/event-esge/gesea-certification-level-1-rome-8/
CATEGORIES:GESEA Certification
END:VEVENT
BEGIN:VEVENT
DTSTART;TZID=Europe/Brussels:20220701T080000
DTEND;TZID=Europe/Brussels:20220701T170000
DTSTAMP:20260422T121312
CREATED:20220214T123351Z
LAST-MODIFIED:20220214T123351Z
UID:3329-1656662400-1656694800@www.esge.org
SUMMARY:GESEA Level 1 Training Course Advanced Techniques Clermont-Ferrand – France
DESCRIPTION:GESEA Diploma Centre CICE
URL:https://www.esge.org/event-esge/gesea-level-1-training-course-advanced-techniques-clermont-ferrand-france-2/
LOCATION:Elementor Header #82
CATEGORIES:GESEA Certification,Other Events
END:VEVENT
BEGIN:VEVENT
DTSTART;TZID=Europe/Brussels:20220624T080000
DTEND;TZID=Europe/Brussels:20220624T170000
DTSTAMP:20260422T121312
CREATED:20211122T133939Z
LAST-MODIFIED:20211122T133939Z
UID:3026-1656057600-1656090000@www.esge.org
SUMMARY:GESEA Certification Level 2 Lisbon – Portugal
DESCRIPTION:GESEA CERT 2 \nGESEA Diploma Centre Lisbon \nRegister here directly
URL:https://www.esge.org/event-esge/gesea-certification-level-2-lisbon-4/
CATEGORIES:GESEA Certification
ATTACH;FMTTYPE=image/jpeg:https://www.esge.org/wp-content/uploads/2021/11/Banner_Site_GESEA-2022_1aSem_1aProva.jpg
END:VEVENT
BEGIN:VEVENT
DTSTART;TZID=Europe/Brussels:20220617T080000
DTEND;TZID=Europe/Brussels:20220617T170000
DTSTAMP:20260422T121312
CREATED:20211130T094652Z
LAST-MODIFIED:20211130T094652Z
UID:3084-1655452800-1655485200@www.esge.org
SUMMARY:GESEA Certification Level 1 Naples – Italy
DESCRIPTION:GESEA CERT 1 \nGESEA Diploma Centre Naples
URL:https://www.esge.org/event-esge/gesea-certification-level-1-naples-italy-2/
LOCATION:Elementor Header #82
CATEGORIES:GESEA Certification
END:VEVENT
BEGIN:VEVENT
DTSTART;TZID=Europe/Brussels:20220615T080000
DTEND;TZID=Europe/Brussels:20220615T170000
DTSTAMP:20260422T121312
CREATED:20211216T111953Z
LAST-MODIFIED:20211216T111953Z
UID:3216-1655280000-1655312400@www.esge.org
SUMMARY:GESEA Certification Level 1 Turin – Italy
DESCRIPTION:GESEA CERT 1 \nGESEA Diploma Centre Turin
URL:https://www.esge.org/event-esge/gesea-certification-level-1-turin-italy-4/
CATEGORIES:GESEA Certification
END:VEVENT
BEGIN:VEVENT
DTSTART;VALUE=DATE:20220615
DTEND;VALUE=DATE:20220616
DTSTAMP:20260422T121312
CREATED:20221027T133110Z
LAST-MODIFIED:20221027T133110Z
UID:4123-1655251200-1655337599@www.esge.org
SUMMARY:GESEA Certification Session Level 2 | Rome — Italy
DESCRIPTION:GESEA Certification Session Level 2 | Rome — Italy \nRegistration\n*if you have any further questions\, regarding the GESEA L2 Certification Session \nplease contact francesca.ortenzi@molipharma.com
URL:https://www.esge.org/event-esge/gesea-certification-session-level-2-rome-italy-2/
CATEGORIES:GESEA Certification
END:VEVENT
BEGIN:VEVENT
DTSTART;TZID=Europe/Brussels:20220520T080000
DTEND;TZID=Europe/Brussels:20220521T170000
DTSTAMP:20260422T121312
CREATED:20220215T080903Z
LAST-MODIFIED:20220215T080903Z
UID:3350-1653033600-1653152400@www.esge.org
SUMMARY:GESEA Certification and Training Level 1 + 2 Porto – Portugal
DESCRIPTION:GESEA Certification and Training Level 1 + 2
URL:https://www.esge.org/event-esge/gesea-certification-and-training-level-1-2-porto-portugal/
LOCATION:CETEC\, Estrada da Circunvalacao 14341\, Porto\, 4100 - 180\, Portugal
CATEGORIES:ESGE Workshops,GESEA Certification
END:VEVENT
BEGIN:VEVENT
DTSTART;TZID=Europe/Brussels:20220520T080000
DTEND;TZID=Europe/Brussels:20220520T170000
DTSTAMP:20260422T121312
CREATED:20220214T103122Z
LAST-MODIFIED:20220214T103122Z
UID:3313-1653033600-1653066000@www.esge.org
SUMMARY:GESEA Certification Level 1 + 2 Liege – Belgium
DESCRIPTION:GESEA Certification Level 1 \nGESEA Diploma Centre Liege
URL:https://www.esge.org/event-esge/gesea-certification-level-1-2-liege-belgium/
LOCATION:Université de Liege\, Belgium
CATEGORIES:GESEA Certification
END:VEVENT
BEGIN:VEVENT
DTSTART;TZID=Europe/Brussels:20220520T080000
DTEND;TZID=Europe/Brussels:20220520T170000
DTSTAMP:20260422T121312
CREATED:20211122T133808Z
LAST-MODIFIED:20211122T133808Z
UID:3024-1653033600-1653066000@www.esge.org
SUMMARY:GESEA Certification Level 1 Lisbon – Portugal
DESCRIPTION:GESEA CERT 1 \nGESEA Diploma Centre Lisbon \nRegister here directly
URL:https://www.esge.org/event-esge/gesea-certification-level-1-lisbon-7/
CATEGORIES:GESEA Certification
ATTACH;FMTTYPE=image/jpeg:https://www.esge.org/wp-content/uploads/2021/11/Banner_Site_GESEA-2022_1aSem_1aProva.jpg
END:VEVENT
BEGIN:VEVENT
DTSTART;TZID=Europe/Brussels:20220518T080000
DTEND;TZID=Europe/Brussels:20220518T170000
DTSTAMP:20260422T121312
CREATED:20211216T111811Z
LAST-MODIFIED:20211216T111811Z
UID:3214-1652860800-1652893200@www.esge.org
SUMMARY:GESEA Certification Level 1 Turin – Italy
DESCRIPTION:GESEA CERT 1 \nGESEA Diploma Centre Turin
URL:https://www.esge.org/event-esge/gesea-certification-level-1-turin-italy-3/
CATEGORIES:GESEA Certification
END:VEVENT
BEGIN:VEVENT
DTSTART;TZID=Europe/Brussels:20220518T080000
DTEND;TZID=Europe/Brussels:20220518T170000
DTSTAMP:20260422T121312
CREATED:20211122T141218Z
LAST-MODIFIED:20211122T141218Z
UID:3050-1652860800-1652893200@www.esge.org
SUMMARY:GESEA Certification Level 1 Rome – Italy
DESCRIPTION:GESEA CERT 1 \nGESEA Diploma Centre Rome
URL:https://www.esge.org/event-esge/gesea-certification-level-1-rome-6/
CATEGORIES:GESEA Certification
END:VEVENT
BEGIN:VEVENT
DTSTART;TZID=Europe/Brussels:20220513T080000
DTEND;TZID=Europe/Brussels:20220513T170000
DTSTAMP:20260422T121312
CREATED:20211130T094536Z
LAST-MODIFIED:20211130T094536Z
UID:3082-1652428800-1652461200@www.esge.org
SUMMARY:GESEA Certification Level 1 Naples – Italy
DESCRIPTION:GESEA CERT 1 \nGESEA Diploma Centre Naples
URL:https://www.esge.org/event-esge/gesea-certification-level-1-naples-italy/
LOCATION:Elementor Header #82
CATEGORIES:GESEA Certification
END:VEVENT
BEGIN:VEVENT
DTSTART;TZID=Europe/Brussels:20220429T080000
DTEND;TZID=Europe/Brussels:20220429T170000
DTSTAMP:20260422T121312
CREATED:20220214T123226Z
LAST-MODIFIED:20220214T123226Z
UID:3327-1651219200-1651251600@www.esge.org
SUMMARY:GESEA Certification Level 1 Clermont-Ferrand – France
DESCRIPTION:GESEA Certification Level 1 \nGESEA Diploma Centre CICE
URL:https://www.esge.org/event-esge/gesea-certification-level-1-clermont-ferrand-france-2/
LOCATION:Elementor Header #82
CATEGORIES:GESEA Certification
END:VEVENT
BEGIN:VEVENT
DTSTART;TZID=Europe/Brussels:20220429T080000
DTEND;TZID=Europe/Brussels:20220429T170000
DTSTAMP:20260422T121312
CREATED:20211122T133555Z
LAST-MODIFIED:20211122T133555Z
UID:3022-1651219200-1651251600@www.esge.org
SUMMARY:GESEA Certification Level 1 Lisbon – Portugal
DESCRIPTION:GESEA CERT 1 \nGESEA Diploma Centre Lisbon \nRegister here directly
URL:https://www.esge.org/event-esge/gesea-certification-level-1-lisbon-6/
CATEGORIES:GESEA Certification
ATTACH;FMTTYPE=image/jpeg:https://www.esge.org/wp-content/uploads/2021/11/Banner_Site_GESEA-2022_1aSem_1aProva.jpg
END:VEVENT
BEGIN:VEVENT
DTSTART;TZID=Europe/Brussels:20220427T080000
DTEND;TZID=Europe/Brussels:20220427T170000
DTSTAMP:20260422T121312
CREATED:20211216T114714Z
LAST-MODIFIED:20211216T114714Z
UID:3225-1651046400-1651078800@www.esge.org
SUMMARY:GESEA Certification level 2 Turin – Italy
DESCRIPTION:GESEA CERT 2 \nGESEA Diploma Centre Turin
URL:https://www.esge.org/event-esge/gesea-certification-level-2-turin-italy/
CATEGORIES:GESEA Certification
END:VEVENT
BEGIN:VEVENT
DTSTART;TZID=Europe/Brussels:20220427T080000
DTEND;TZID=Europe/Brussels:20220427T170000
DTSTAMP:20260422T121312
CREATED:20211122T142142Z
LAST-MODIFIED:20211122T142142Z
UID:3060-1651046400-1651078800@www.esge.org
SUMMARY:GESEA Certification Level 2 Rome – Italy
DESCRIPTION:GESEA CERT 2 \nGESEA Diploma Centre Rome
URL:https://www.esge.org/event-esge/gesea-certification-level-2-rome-2/
CATEGORIES:GESEA Certification
END:VEVENT
BEGIN:VEVENT
DTSTART;TZID=Europe/Brussels:20220409T120000
DTEND;TZID=Europe/Brussels:20220409T170000
DTSTAMP:20260422T121312
CREATED:20211216T115941Z
LAST-MODIFIED:20211216T115941Z
UID:3234-1649505600-1649523600@www.esge.org
SUMMARY:GESEA Certification Level 1 Bern – Switzerland
DESCRIPTION:GESEA CERT 1 \nGESEA Diploma Centre Bern
URL:https://www.esge.org/event-esge/gesea-certification-level-1-bern-switzerland-2/
LOCATION:AGE-Swissendos\, Friedbühlstrasse 19\, Bern\, 3010\, Switzerland
CATEGORIES:GESEA Certification
END:VEVENT
BEGIN:VEVENT
DTSTART;TZID=Europe/Brussels:20220407T080000
DTEND;TZID=Europe/Brussels:20220409T170000
DTSTAMP:20260422T121312
CREATED:20211216T121051Z
LAST-MODIFIED:20211216T121051Z
UID:3242-1649318400-1649523600@www.esge.org
SUMMARY:GESEA Course + Certification Level 1 Bern – Switzerland
DESCRIPTION:GESEA Course + CERT 1 \nGESEA Diploma Centre Bern
URL:https://www.esge.org/event-esge/gesea-course-certification-level-1-bern-switzerland-2/
LOCATION:AGE-Swissendos\, Friedbühlstrasse 19\, Bern\, 3010\, Switzerland
CATEGORIES:ESGE Workshops,GESEA Certification
END:VEVENT
END:VCALENDAR