BEGIN:VCALENDAR
VERSION:2.0
PRODID:-//European Society for Gynaecological Endoscopy - ECPv6.15.20//NONSGML v1.0//EN
CALSCALE:GREGORIAN
METHOD:PUBLISH
X-WR-CALNAME:European Society for Gynaecological Endoscopy
X-ORIGINAL-URL:https://www.esge.org
X-WR-CALDESC:Events for European Society for Gynaecological Endoscopy
REFRESH-INTERVAL;VALUE=DURATION:PT1H
X-Robots-Tag:noindex
X-PUBLISHED-TTL:PT1H
BEGIN:VTIMEZONE
TZID:Europe/Brussels
BEGIN:DAYLIGHT
TZOFFSETFROM:+0100
TZOFFSETTO:+0200
TZNAME:CEST
DTSTART:20210328T010000
END:DAYLIGHT
BEGIN:STANDARD
TZOFFSETFROM:+0200
TZOFFSETTO:+0100
TZNAME:CET
DTSTART:20211031T010000
END:STANDARD
BEGIN:DAYLIGHT
TZOFFSETFROM:+0100
TZOFFSETTO:+0200
TZNAME:CEST
DTSTART:20220327T010000
END:DAYLIGHT
BEGIN:STANDARD
TZOFFSETFROM:+0200
TZOFFSETTO:+0100
TZNAME:CET
DTSTART:20221030T010000
END:STANDARD
BEGIN:DAYLIGHT
TZOFFSETFROM:+0100
TZOFFSETTO:+0200
TZNAME:CEST
DTSTART:20230326T010000
END:DAYLIGHT
BEGIN:STANDARD
TZOFFSETFROM:+0200
TZOFFSETTO:+0100
TZNAME:CET
DTSTART:20231029T010000
END:STANDARD
END:VTIMEZONE
BEGIN:VEVENT
DTSTART;TZID=Europe/Brussels:20220520T080000
DTEND;TZID=Europe/Brussels:20220520T170000
DTSTAMP:20260424T102838
CREATED:20220214T103122Z
LAST-MODIFIED:20220214T103122Z
UID:3313-1653033600-1653066000@www.esge.org
SUMMARY:GESEA Certification Level 1 + 2 Liege – Belgium
DESCRIPTION:GESEA Certification Level 1 \nGESEA Diploma Centre Liege
URL:https://www.esge.org/event-esge/gesea-certification-level-1-2-liege-belgium/
LOCATION:Université de Liege\, Belgium
CATEGORIES:GESEA Certification
END:VEVENT
BEGIN:VEVENT
DTSTART;TZID=Europe/Brussels:20220520T080000
DTEND;TZID=Europe/Brussels:20220520T170000
DTSTAMP:20260424T102838
CREATED:20211122T133808Z
LAST-MODIFIED:20211122T133808Z
UID:3024-1653033600-1653066000@www.esge.org
SUMMARY:GESEA Certification Level 1 Lisbon – Portugal
DESCRIPTION:GESEA CERT 1 \nGESEA Diploma Centre Lisbon \nRegister here directly
URL:https://www.esge.org/event-esge/gesea-certification-level-1-lisbon-7/
CATEGORIES:GESEA Certification
ATTACH;FMTTYPE=image/jpeg:https://www.esge.org/wp-content/uploads/2021/11/Banner_Site_GESEA-2022_1aSem_1aProva.jpg
END:VEVENT
BEGIN:VEVENT
DTSTART;TZID=Europe/Brussels:20220518T080000
DTEND;TZID=Europe/Brussels:20220518T170000
DTSTAMP:20260424T102838
CREATED:20211216T111811Z
LAST-MODIFIED:20211216T111811Z
UID:3214-1652860800-1652893200@www.esge.org
SUMMARY:GESEA Certification Level 1 Turin – Italy
DESCRIPTION:GESEA CERT 1 \nGESEA Diploma Centre Turin
URL:https://www.esge.org/event-esge/gesea-certification-level-1-turin-italy-3/
CATEGORIES:GESEA Certification
END:VEVENT
BEGIN:VEVENT
DTSTART;TZID=Europe/Brussels:20220518T080000
DTEND;TZID=Europe/Brussels:20220518T170000
DTSTAMP:20260424T102838
CREATED:20211122T141218Z
LAST-MODIFIED:20211122T141218Z
UID:3050-1652860800-1652893200@www.esge.org
SUMMARY:GESEA Certification Level 1 Rome – Italy
DESCRIPTION:GESEA CERT 1 \nGESEA Diploma Centre Rome
URL:https://www.esge.org/event-esge/gesea-certification-level-1-rome-6/
CATEGORIES:GESEA Certification
END:VEVENT
BEGIN:VEVENT
DTSTART;TZID=Europe/Brussels:20220513T080000
DTEND;TZID=Europe/Brussels:20220513T170000
DTSTAMP:20260424T102838
CREATED:20211130T094536Z
LAST-MODIFIED:20211130T094536Z
UID:3082-1652428800-1652461200@www.esge.org
SUMMARY:GESEA Certification Level 1 Naples – Italy
DESCRIPTION:GESEA CERT 1 \nGESEA Diploma Centre Naples
URL:https://www.esge.org/event-esge/gesea-certification-level-1-naples-italy/
LOCATION:Elementor Header #82
CATEGORIES:GESEA Certification
END:VEVENT
BEGIN:VEVENT
DTSTART;TZID=Europe/Brussels:20220429T080000
DTEND;TZID=Europe/Brussels:20220429T170000
DTSTAMP:20260424T102838
CREATED:20220214T123226Z
LAST-MODIFIED:20220214T123226Z
UID:3327-1651219200-1651251600@www.esge.org
SUMMARY:GESEA Certification Level 1 Clermont-Ferrand – France
DESCRIPTION:GESEA Certification Level 1 \nGESEA Diploma Centre CICE
URL:https://www.esge.org/event-esge/gesea-certification-level-1-clermont-ferrand-france-2/
LOCATION:Elementor Header #82
CATEGORIES:GESEA Certification
END:VEVENT
BEGIN:VEVENT
DTSTART;TZID=Europe/Brussels:20220429T080000
DTEND;TZID=Europe/Brussels:20220429T170000
DTSTAMP:20260424T102838
CREATED:20211122T133555Z
LAST-MODIFIED:20211122T133555Z
UID:3022-1651219200-1651251600@www.esge.org
SUMMARY:GESEA Certification Level 1 Lisbon – Portugal
DESCRIPTION:GESEA CERT 1 \nGESEA Diploma Centre Lisbon \nRegister here directly
URL:https://www.esge.org/event-esge/gesea-certification-level-1-lisbon-6/
CATEGORIES:GESEA Certification
ATTACH;FMTTYPE=image/jpeg:https://www.esge.org/wp-content/uploads/2021/11/Banner_Site_GESEA-2022_1aSem_1aProva.jpg
END:VEVENT
BEGIN:VEVENT
DTSTART;TZID=Europe/Brussels:20220427T080000
DTEND;TZID=Europe/Brussels:20220427T170000
DTSTAMP:20260424T102838
CREATED:20211216T114714Z
LAST-MODIFIED:20211216T114714Z
UID:3225-1651046400-1651078800@www.esge.org
SUMMARY:GESEA Certification level 2 Turin – Italy
DESCRIPTION:GESEA CERT 2 \nGESEA Diploma Centre Turin
URL:https://www.esge.org/event-esge/gesea-certification-level-2-turin-italy/
CATEGORIES:GESEA Certification
END:VEVENT
BEGIN:VEVENT
DTSTART;TZID=Europe/Brussels:20220427T080000
DTEND;TZID=Europe/Brussels:20220427T170000
DTSTAMP:20260424T102838
CREATED:20211122T142142Z
LAST-MODIFIED:20211122T142142Z
UID:3060-1651046400-1651078800@www.esge.org
SUMMARY:GESEA Certification Level 2 Rome – Italy
DESCRIPTION:GESEA CERT 2 \nGESEA Diploma Centre Rome
URL:https://www.esge.org/event-esge/gesea-certification-level-2-rome-2/
CATEGORIES:GESEA Certification
END:VEVENT
BEGIN:VEVENT
DTSTART;TZID=Europe/Brussels:20220409T120000
DTEND;TZID=Europe/Brussels:20220409T170000
DTSTAMP:20260424T102838
CREATED:20211216T115941Z
LAST-MODIFIED:20211216T115941Z
UID:3234-1649505600-1649523600@www.esge.org
SUMMARY:GESEA Certification Level 1 Bern – Switzerland
DESCRIPTION:GESEA CERT 1 \nGESEA Diploma Centre Bern
URL:https://www.esge.org/event-esge/gesea-certification-level-1-bern-switzerland-2/
LOCATION:AGE-Swissendos\, Friedbühlstrasse 19\, Bern\, 3010\, Switzerland
CATEGORIES:GESEA Certification
END:VEVENT
BEGIN:VEVENT
DTSTART;TZID=Europe/Brussels:20220407T080000
DTEND;TZID=Europe/Brussels:20220409T170000
DTSTAMP:20260424T102838
CREATED:20211216T121051Z
LAST-MODIFIED:20211216T121051Z
UID:3242-1649318400-1649523600@www.esge.org
SUMMARY:GESEA Course + Certification Level 1 Bern – Switzerland
DESCRIPTION:GESEA Course + CERT 1 \nGESEA Diploma Centre Bern
URL:https://www.esge.org/event-esge/gesea-course-certification-level-1-bern-switzerland-2/
LOCATION:AGE-Swissendos\, Friedbühlstrasse 19\, Bern\, 3010\, Switzerland
CATEGORIES:ESGE Workshops,GESEA Certification
END:VEVENT
BEGIN:VEVENT
DTSTART;TZID=Europe/Brussels:20220407T080000
DTEND;TZID=Europe/Brussels:20220407T170000
DTSTAMP:20260424T102838
CREATED:20220214T123116Z
LAST-MODIFIED:20220214T123116Z
UID:3325-1649318400-1649350800@www.esge.org
SUMMARY:GESEA Certification and Training Level 1 + 2 Clermont-Ferrand – France
DESCRIPTION:GESEA Certification Level 1 + 2 \nGESEA Diploma Centre CICE
URL:https://www.esge.org/event-esge/gesea-certification-and-training-level-1-2-clermont-ferrand-france/
LOCATION:Elementor Header #82
CATEGORIES:GESEA Certification,Other Events
END:VEVENT
BEGIN:VEVENT
DTSTART;TZID=Europe/Brussels:20220401T080000
DTEND;TZID=Europe/Brussels:20220401T170000
DTSTAMP:20260424T102838
CREATED:20211130T095227Z
LAST-MODIFIED:20211130T095227Z
UID:3093-1648800000-1648832400@www.esge.org
SUMMARY:GESEA Certification Level 2 Naples – Italy
DESCRIPTION:GESEA CERT 2 \nGESEA Diploma Centre Naples
URL:https://www.esge.org/event-esge/gesea-certification-level-2-naples-italy/
LOCATION:Elementor Header #82
CATEGORIES:GESEA Certification
END:VEVENT
BEGIN:VEVENT
DTSTART;TZID=Europe/Brussels:20220323T080000
DTEND;TZID=Europe/Brussels:20220323T170000
DTSTAMP:20260424T102838
CREATED:20211216T111605Z
LAST-MODIFIED:20211216T111605Z
UID:3211-1648022400-1648054800@www.esge.org
SUMMARY:GESEA Certification Level 1 Turin – Italy
DESCRIPTION:GESEA CERT 1 \nGESEA Diploma Centre Turin
URL:https://www.esge.org/event-esge/gesea-certification-level-1-turin-italy-2/
CATEGORIES:GESEA Certification
END:VEVENT
BEGIN:VEVENT
DTSTART;TZID=Europe/Brussels:20220323T080000
DTEND;TZID=Europe/Brussels:20220323T170000
DTSTAMP:20260424T102838
CREATED:20211122T141009Z
LAST-MODIFIED:20211122T141009Z
UID:3048-1648022400-1648054800@www.esge.org
SUMMARY:GESEA Certification Level 1 Rome – Italy
DESCRIPTION:GESEA CERT 1 \nGESEA Diploma Centre Rome
URL:https://www.esge.org/event-esge/gesea-certification-level-1-rome-5/
CATEGORIES:GESEA Certification
END:VEVENT
BEGIN:VEVENT
DTSTART;TZID=Europe/Brussels:20220318T080000
DTEND;TZID=Europe/Brussels:20220318T170000
DTSTAMP:20260424T102838
CREATED:20220214T122949Z
LAST-MODIFIED:20220214T122949Z
UID:3323-1647590400-1647622800@www.esge.org
SUMMARY:GESEA Level 1 Training Course Advanced Techniques Clermont-Ferrand – France
DESCRIPTION:GESEA Diploma Centre CICE
URL:https://www.esge.org/event-esge/gesea-level-1-training-course-advanced-techniques-clermont-ferrand-france/
LOCATION:Elementor Header #82
CATEGORIES:GESEA Certification,Other Events
END:VEVENT
BEGIN:VEVENT
DTSTART;TZID=Europe/Brussels:20220312T120000
DTEND;TZID=Europe/Brussels:20220312T170000
DTSTAMP:20260424T102838
CREATED:20211216T115725Z
LAST-MODIFIED:20211216T115725Z
UID:3231-1647086400-1647104400@www.esge.org
SUMMARY:GESEA Certification Level 1 Bern – Switzerland
DESCRIPTION:GESEA CERT 1 \nGESEA Diploma Centre Bern
URL:https://www.esge.org/event-esge/gesea-certification-level-1-bern-switzerland/
LOCATION:AGE-Swissendos\, Friedbühlstrasse 19\, Bern\, 3010\, Switzerland
CATEGORIES:GESEA Certification
END:VEVENT
BEGIN:VEVENT
DTSTART;TZID=Europe/Brussels:20220311T080000
DTEND;TZID=Europe/Brussels:20220311T170000
DTSTAMP:20260424T102838
CREATED:20220214T094728Z
LAST-MODIFIED:20220214T094728Z
UID:3311-1646985600-1647018000@www.esge.org
SUMMARY:GESEA Certification Level 1 Liege – Belgium
DESCRIPTION:GESEA Certification Level 1 \nGESEA Diploma Centre Liege 
URL:https://www.esge.org/event-esge/gesea-certification-level-1-liege-belgium/
LOCATION:Université de Liege\, Belgium
CATEGORIES:GESEA Certification
END:VEVENT
BEGIN:VEVENT
DTSTART;TZID=Europe/Brussels:20220311T080000
DTEND;TZID=Europe/Brussels:20220311T170000
DTSTAMP:20260424T102838
CREATED:20211130T093933Z
LAST-MODIFIED:20211130T093933Z
UID:3076-1646985600-1647018000@www.esge.org
SUMMARY:GESEA Certification Level 1 Naples – Italy
DESCRIPTION:GESEA CERT 1 \nGESEA Diploma Centre Naples
URL:https://www.esge.org/event-esge/gesea-certification-level-1-naples-6/
LOCATION:Elementor Header #82
CATEGORIES:GESEA Certification
END:VEVENT
BEGIN:VEVENT
DTSTART;TZID=Europe/Brussels:20220311T080000
DTEND;TZID=Europe/Brussels:20220311T170000
DTSTAMP:20260424T102838
CREATED:20211122T133153Z
LAST-MODIFIED:20211122T133153Z
UID:3015-1646985600-1647018000@www.esge.org
SUMMARY:GESEA Certification Level 1 Lisbon
DESCRIPTION:GESEA CERT 1 \nDiploma Centre Lisbon \nRegister here directly for CERT L1 \n \n 
URL:https://www.esge.org/event-esge/gesea-certification-level-1-lisbon-5/
CATEGORIES:GESEA Certification
ATTACH;FMTTYPE=image/jpeg:https://www.esge.org/wp-content/uploads/2021/11/Banner_Site_GESEA-2022_1aSem_2aProva.jpg
END:VEVENT
BEGIN:VEVENT
DTSTART;TZID=Europe/Brussels:20220310T080000
DTEND;TZID=Europe/Brussels:20220312T170000
DTSTAMP:20260424T102838
CREATED:20211216T120806Z
LAST-MODIFIED:20211216T120806Z
UID:3240-1646899200-1647104400@www.esge.org
SUMMARY:GESEA Course + Certification Level 1 Bern – Switzerland
DESCRIPTION:GESEA Course + CERT 1 \nGESEA Diploma Centre Bern
URL:https://www.esge.org/event-esge/gesea-course-certification-level-1-bern-switzerland/
LOCATION:AGE-Swissendos\, Friedbühlstrasse 19\, Bern\, 3010\, Switzerland
CATEGORIES:ESGE Workshops,GESEA Certification
END:VEVENT
BEGIN:VEVENT
DTSTART;TZID=Europe/Brussels:20220310T080000
DTEND;TZID=Europe/Brussels:20220310T170000
DTSTAMP:20260424T102838
CREATED:20220121T121319Z
LAST-MODIFIED:20220121T121319Z
UID:3287-1646899200-1646931600@www.esge.org
SUMMARY:3rd Total Laparoscopic Hysterectomy - Live Gyneacological Course | Inc. GESEA L1 & L2
DESCRIPTION:Register here.
URL:https://www.esge.org/event-esge/3rd-total-laparoscopic-hysterectomy-live-gyneacological-course-inc-gesea-l1-l2-2/
CATEGORIES:GESEA Certification
ATTACH;FMTTYPE=image/jpeg:https://www.esge.org/wp-content/uploads/2022/01/TotalLaparoscHysterec_3aEdit_1aProva.jpg
END:VEVENT
BEGIN:VEVENT
DTSTART;TZID=Europe/Brussels:20220310T080000
DTEND;TZID=Europe/Brussels:20220310T170000
DTSTAMP:20260424T102838
CREATED:20211122T132947Z
LAST-MODIFIED:20211122T132947Z
UID:3013-1646899200-1646931600@www.esge.org
SUMMARY:3rd Total Laparoscopic Hysterectomy - Live Gyneacological Course | Inc. GESEA L1 & L2
DESCRIPTION:incl. GESEA CERT 1 + 2 \n 
URL:https://www.esge.org/event-esge/3rd-total-laparoscopic-hysterectomy-live-gyneacological-course-inc-gesea-l1-l2/
CATEGORIES:GESEA Certification
END:VEVENT
BEGIN:VEVENT
DTSTART;TZID=Europe/Brussels:20220303T080000
DTEND;TZID=Europe/Brussels:20220303T170000
DTSTAMP:20260424T102838
CREATED:20220214T120804Z
LAST-MODIFIED:20220214T120804Z
UID:3319-1646294400-1646326800@www.esge.org
SUMMARY:GESEA Certification Level 1 Clermont-Ferrand – France
DESCRIPTION:GESEA Certification Level 1 for resident gynaecologists \nGESEA Diploma Centre CICE
URL:https://www.esge.org/event-esge/gesea-certification-level-1-clermont-ferrand-france/
LOCATION:Elementor Header #82
CATEGORIES:GESEA Certification
END:VEVENT
BEGIN:VEVENT
DTSTART;TZID=Europe/Brussels:20220226T080000
DTEND;TZID=Europe/Brussels:20220226T170000
DTSTAMP:20260424T102838
CREATED:20210112T093125Z
LAST-MODIFIED:20210112T093125Z
UID:655-1645862400-1645894800@www.esge.org
SUMMARY:GESEA Certification Level 1 & Level 2 – ENDO Dubai 2022
DESCRIPTION:GESEA CERT 1 \nGESEA CERT 2 \nEndo Dubai website
URL:https://www.esge.org/event-esge/gesea-certification-level-1-level-2-endo-dubai-2021-congress/
LOCATION:Elementor Header #609
CATEGORIES:GESEA Certification
ATTACH;FMTTYPE=image/jpeg:https://www.esge.org/wp-content/uploads/2021/01/Invitation-Banner-2.jpeg
END:VEVENT
BEGIN:VEVENT
DTSTART;TZID=Europe/Brussels:20220224T080000
DTEND;TZID=Europe/Brussels:20220226T170000
DTSTAMP:20260424T102838
CREATED:20211217T105104Z
LAST-MODIFIED:20211217T105104Z
UID:3248-1645689600-1645894800@www.esge.org
SUMMARY:ENDO DUBAI 2022 – Endo Meets Expo
DESCRIPTION:Go to ENDO DUBAI website
URL:https://www.esge.org/event-esge/endo-dubai-2022/
LOCATION:MIS Academy\, Office 904\, XL Tower Marasi Drive\, Business Bay\, Dubai\, Dubai\, United Arab Emirates
CATEGORIES:Congresses,GESEA Certification
ATTACH;FMTTYPE=image/jpeg:https://www.esge.org/wp-content/uploads/2021/01/Invitation-Banner.jpeg
END:VEVENT
BEGIN:VEVENT
DTSTART;TZID=Europe/Brussels:20220218T080000
DTEND;TZID=Europe/Brussels:20220218T170000
DTSTAMP:20260424T102838
CREATED:20211122T140842Z
LAST-MODIFIED:20211122T140842Z
UID:3046-1645171200-1645203600@www.esge.org
SUMMARY:GESEA Certification Level 1 Rome – Italy
DESCRIPTION:GESEA CERT 1 \nGESEA Diploma Centre Rome
URL:https://www.esge.org/event-esge/gesea-certification-level-1-rome-4/
CATEGORIES:GESEA Certification
END:VEVENT
BEGIN:VEVENT
DTSTART;TZID=Europe/Brussels:20220218T080000
DTEND;TZID=Europe/Brussels:20220218T170000
DTSTAMP:20260424T102838
CREATED:20211122T132817Z
LAST-MODIFIED:20211122T132817Z
UID:3011-1645171200-1645203600@www.esge.org
SUMMARY:GESEA Certification Level 2 Lisbon – Portugal
DESCRIPTION:GESEA CERT 2 \nGESEA Diploma Centre Lisbon \nRegister here directly
URL:https://www.esge.org/event-esge/gesea-certification-level-2-lisbon-3/
CATEGORIES:GESEA Certification
ATTACH;FMTTYPE=image/jpeg:https://www.esge.org/wp-content/uploads/2021/11/Banner_Site_GESEA-2022_1aSem_1aProva.jpg
END:VEVENT
BEGIN:VEVENT
DTSTART;TZID=Europe/Brussels:20220204T080000
DTEND;TZID=Europe/Brussels:20220204T170000
DTSTAMP:20260424T102838
CREATED:20211130T093815Z
LAST-MODIFIED:20211130T093815Z
UID:3074-1643961600-1643994000@www.esge.org
SUMMARY:GESEA Certification Level 1 Naples – Italy
DESCRIPTION:GESEA CERT 1 \nGESEA Diploma Centre Naples
URL:https://www.esge.org/event-esge/gesea-certification-level-1-naples-5/
LOCATION:Elementor Header #82
CATEGORIES:GESEA Certification
END:VEVENT
BEGIN:VEVENT
DTSTART;TZID=Europe/Brussels:20220121T080000
DTEND;TZID=Europe/Brussels:20220121T170000
DTSTAMP:20260424T102838
CREATED:20211122T124346Z
LAST-MODIFIED:20211122T124346Z
UID:3009-1642752000-1642784400@www.esge.org
SUMMARY:GESEA Certification Level 1 Lisbon – Portugal
DESCRIPTION:GESEA CERT 1 \nDiploma Centre Lisbon \nRegister here directly
URL:https://www.esge.org/event-esge/gesea-certification-level-1-lisbon-4/
CATEGORIES:GESEA Certification
ATTACH;FMTTYPE=image/jpeg:https://www.esge.org/wp-content/uploads/2021/11/Banner_Site_GESEA-2022_1aSem_1aProva.jpg
END:VEVENT
END:VCALENDAR